BEGIN:VCALENDAR
VERSION:2.0
PRODID:-//JCC Dev - ECPv6.15.18//NONSGML v1.0//EN
CALSCALE:GREGORIAN
METHOD:PUBLISH
X-WR-CALNAME:JCC Dev
X-ORIGINAL-URL:https://dev.jccannarbor.org
X-WR-CALDESC:Events for JCC Dev
REFRESH-INTERVAL;VALUE=DURATION:PT1H
X-Robots-Tag:noindex
X-PUBLISHED-TTL:PT1H
BEGIN:VTIMEZONE
TZID:America/Detroit
BEGIN:DAYLIGHT
TZOFFSETFROM:-0500
TZOFFSETTO:-0400
TZNAME:EDT
DTSTART:20240310T070000
END:DAYLIGHT
BEGIN:STANDARD
TZOFFSETFROM:-0400
TZOFFSETTO:-0500
TZNAME:EST
DTSTART:20241103T060000
END:STANDARD
BEGIN:DAYLIGHT
TZOFFSETFROM:-0500
TZOFFSETTO:-0400
TZNAME:EDT
DTSTART:20250309T070000
END:DAYLIGHT
BEGIN:STANDARD
TZOFFSETFROM:-0400
TZOFFSETTO:-0500
TZNAME:EST
DTSTART:20251102T060000
END:STANDARD
BEGIN:DAYLIGHT
TZOFFSETFROM:-0500
TZOFFSETTO:-0400
TZNAME:EDT
DTSTART:20260308T070000
END:DAYLIGHT
BEGIN:STANDARD
TZOFFSETFROM:-0400
TZOFFSETTO:-0500
TZNAME:EST
DTSTART:20261101T060000
END:STANDARD
END:VTIMEZONE
BEGIN:VEVENT
DTSTART;TZID=America/Detroit:20250604T120000
DTEND;TZID=America/Detroit:20250604T153000
DTSTAMP:20260422T080313
CREATED:20241219T192139Z
LAST-MODIFIED:20251120T001050Z
UID:10006051-1749038400-1749051000@dev.jccannarbor.org
SUMMARY:Wise Senior Center @ the JCC!
DESCRIPTION:Join Us For WISE at the J!\nJewish Family Services is proud to offer their weekly Wise Senior Center program as a part of WISE Aging Services. On Mondays (12:30-3 PM)\, Wednesdays and Fridays (12-3:30 PM) the program offers hand cooked\, freshly prepared kosher lunches and group activities! \nFor anyone 60 or over\, we ask for a suggested donation of $3. For anyone under 60\, there is a fee of $5.50. To learn more about the program or to register for lunches\, please contact Rebecca Nieubuurt\, WISE Coordinator.
URL:https://dev.jccannarbor.org/event/weekly-wise-the-j/2025-06-04/
LOCATION:The J\, 2935 Birch Hollow Dr.\, Ann Arbor\, MI\, 48108\, United States
CATEGORIES:Health & Wellness,Older Adults
ATTACH;FMTTYPE=image/jpeg:https://dev.jccannarbor.org/wp-content/uploads/2024/12/WISE-@-the-J-Website-2-1.jpg
GEO:42.239759;-83.722389
X-APPLE-STRUCTURED-LOCATION;VALUE=URI;X-ADDRESS=The J 2935 Birch Hollow Dr. Ann Arbor MI 48108 United States;X-APPLE-RADIUS=500;X-TITLE=2935 Birch Hollow Dr.:geo:-83.722389,42.239759
END:VEVENT
BEGIN:VEVENT
DTSTART;TZID=America/Detroit:20250609T090000
DTEND;TZID=America/Detroit:20250609T100000
DTSTAMP:20260422T080313
CREATED:20250326T162420Z
LAST-MODIFIED:20250908T172450Z
UID:10006042-1749459600-1749463200@dev.jccannarbor.org
SUMMARY:ZUMBA in the Gym!
DESCRIPTION:Join us for ZUMBA in the Gym!\n9-10 AM\nZumba is a high intensity\, low impact aerobic dance class.  Features include Latin & international rhythms including merengue\, salsa\, cumbia\, reggaeton\, flamenco\, and samba and Bhangra. Zumba is a dance workout that feels like a party. Everybody at any fitness and dance level is welcome. \nThe workout is designed by mixing low-intensity and high-intensity moves for an interval-style\, calorie-burning dance fitness party.  You will get a total body workout through a combination of easy to follow dance and fitness steps.  You get a total workout that combine cardio\, muscle conditioning\, balance and flexibility\, and boosted energy.  It’s exercise in disguise.  The class duration is for about 60 min\, and includes an intro\, dance\, and cool down part. \nRegistration\n\nDrop-in process – visit the Welcome Desk at the JCC to pay and join the class!\n\nCost\n$5 for J member or community member \nClass policies\n• Gym shoes are required\n• A water bottle is highly recommended \nNew clients should arrive 5 minutes early to fill out a waiver.\nCancellation policy\nIf cancelling less than two hours before class or you do not show\, full price of the class will be forfeited and will not be refunded.  Must call JCC if cancelling.  If class is cancelled due to instructor illness\, weather\, or building closure\, participant will not forfeit class\, and will have an opportunity to make up the class in the next week or a week when they are able to attend.
URL:https://dev.jccannarbor.org/event/zumba-2/2025-06-09/
LOCATION:The J\, 2935 Birch Hollow Dr.\, Ann Arbor\, MI\, 48108\, United States
CATEGORIES:Health & Wellness,Older Adults
GEO:42.239759;-83.722389
X-APPLE-STRUCTURED-LOCATION;VALUE=URI;X-ADDRESS=The J 2935 Birch Hollow Dr. Ann Arbor MI 48108 United States;X-APPLE-RADIUS=500;X-TITLE=2935 Birch Hollow Dr.:geo:-83.722389,42.239759
END:VEVENT
BEGIN:VEVENT
DTSTART;TZID=America/Detroit:20250613T090000
DTEND;TZID=America/Detroit:20250613T100000
DTSTAMP:20260422T080313
CREATED:20250326T162420Z
LAST-MODIFIED:20250908T172450Z
UID:10006043-1749805200-1749808800@dev.jccannarbor.org
SUMMARY:ZUMBA in the Gym!
DESCRIPTION:Join us for ZUMBA in the Gym!\n9-10 AM\nZumba is a high intensity\, low impact aerobic dance class.  Features include Latin & international rhythms including merengue\, salsa\, cumbia\, reggaeton\, flamenco\, and samba and Bhangra. Zumba is a dance workout that feels like a party. Everybody at any fitness and dance level is welcome. \nThe workout is designed by mixing low-intensity and high-intensity moves for an interval-style\, calorie-burning dance fitness party.  You will get a total body workout through a combination of easy to follow dance and fitness steps.  You get a total workout that combine cardio\, muscle conditioning\, balance and flexibility\, and boosted energy.  It’s exercise in disguise.  The class duration is for about 60 min\, and includes an intro\, dance\, and cool down part. \nRegistration\n\nDrop-in process – visit the Welcome Desk at the JCC to pay and join the class!\n\nCost\n$5 for J member or community member \nClass policies\n• Gym shoes are required\n• A water bottle is highly recommended \nNew clients should arrive 5 minutes early to fill out a waiver.\nCancellation policy\nIf cancelling less than two hours before class or you do not show\, full price of the class will be forfeited and will not be refunded.  Must call JCC if cancelling.  If class is cancelled due to instructor illness\, weather\, or building closure\, participant will not forfeit class\, and will have an opportunity to make up the class in the next week or a week when they are able to attend.
URL:https://dev.jccannarbor.org/event/zumba-2/2025-06-13/
LOCATION:The J\, 2935 Birch Hollow Dr.\, Ann Arbor\, MI\, 48108\, United States
CATEGORIES:Health & Wellness,Older Adults
GEO:42.239759;-83.722389
X-APPLE-STRUCTURED-LOCATION;VALUE=URI;X-ADDRESS=The J 2935 Birch Hollow Dr. Ann Arbor MI 48108 United States;X-APPLE-RADIUS=500;X-TITLE=2935 Birch Hollow Dr.:geo:-83.722389,42.239759
END:VEVENT
BEGIN:VEVENT
DTSTART;TZID=America/Detroit:20250616T090000
DTEND;TZID=America/Detroit:20250616T100000
DTSTAMP:20260422T080313
CREATED:20250326T162420Z
LAST-MODIFIED:20250908T172450Z
UID:10006044-1750064400-1750068000@dev.jccannarbor.org
SUMMARY:ZUMBA in the Gym!
DESCRIPTION:Join us for ZUMBA in the Gym!\n9-10 AM\nZumba is a high intensity\, low impact aerobic dance class.  Features include Latin & international rhythms including merengue\, salsa\, cumbia\, reggaeton\, flamenco\, and samba and Bhangra. Zumba is a dance workout that feels like a party. Everybody at any fitness and dance level is welcome. \nThe workout is designed by mixing low-intensity and high-intensity moves for an interval-style\, calorie-burning dance fitness party.  You will get a total body workout through a combination of easy to follow dance and fitness steps.  You get a total workout that combine cardio\, muscle conditioning\, balance and flexibility\, and boosted energy.  It’s exercise in disguise.  The class duration is for about 60 min\, and includes an intro\, dance\, and cool down part. \nRegistration\n\nDrop-in process – visit the Welcome Desk at the JCC to pay and join the class!\n\nCost\n$5 for J member or community member \nClass policies\n• Gym shoes are required\n• A water bottle is highly recommended \nNew clients should arrive 5 minutes early to fill out a waiver.\nCancellation policy\nIf cancelling less than two hours before class or you do not show\, full price of the class will be forfeited and will not be refunded.  Must call JCC if cancelling.  If class is cancelled due to instructor illness\, weather\, or building closure\, participant will not forfeit class\, and will have an opportunity to make up the class in the next week or a week when they are able to attend.
URL:https://dev.jccannarbor.org/event/zumba-2/2025-06-16/
LOCATION:The J\, 2935 Birch Hollow Dr.\, Ann Arbor\, MI\, 48108\, United States
CATEGORIES:Health & Wellness,Older Adults
GEO:42.239759;-83.722389
X-APPLE-STRUCTURED-LOCATION;VALUE=URI;X-ADDRESS=The J 2935 Birch Hollow Dr. Ann Arbor MI 48108 United States;X-APPLE-RADIUS=500;X-TITLE=2935 Birch Hollow Dr.:geo:-83.722389,42.239759
END:VEVENT
BEGIN:VEVENT
DTSTART;TZID=America/Detroit:20250618T090000
DTEND;TZID=America/Detroit:20250618T100000
DTSTAMP:20260422T080313
CREATED:20250326T162420Z
LAST-MODIFIED:20250908T172450Z
UID:10006045-1750237200-1750240800@dev.jccannarbor.org
SUMMARY:ZUMBA in the Gym!
DESCRIPTION:Join us for ZUMBA in the Gym!\n9-10 AM\nZumba is a high intensity\, low impact aerobic dance class.  Features include Latin & international rhythms including merengue\, salsa\, cumbia\, reggaeton\, flamenco\, and samba and Bhangra. Zumba is a dance workout that feels like a party. Everybody at any fitness and dance level is welcome. \nThe workout is designed by mixing low-intensity and high-intensity moves for an interval-style\, calorie-burning dance fitness party.  You will get a total body workout through a combination of easy to follow dance and fitness steps.  You get a total workout that combine cardio\, muscle conditioning\, balance and flexibility\, and boosted energy.  It’s exercise in disguise.  The class duration is for about 60 min\, and includes an intro\, dance\, and cool down part. \nRegistration\n\nDrop-in process – visit the Welcome Desk at the JCC to pay and join the class!\n\nCost\n$5 for J member or community member \nClass policies\n• Gym shoes are required\n• A water bottle is highly recommended \nNew clients should arrive 5 minutes early to fill out a waiver.\nCancellation policy\nIf cancelling less than two hours before class or you do not show\, full price of the class will be forfeited and will not be refunded.  Must call JCC if cancelling.  If class is cancelled due to instructor illness\, weather\, or building closure\, participant will not forfeit class\, and will have an opportunity to make up the class in the next week or a week when they are able to attend.
URL:https://dev.jccannarbor.org/event/zumba-2/2025-06-18/
LOCATION:The J\, 2935 Birch Hollow Dr.\, Ann Arbor\, MI\, 48108\, United States
CATEGORIES:Health & Wellness,Older Adults
GEO:42.239759;-83.722389
X-APPLE-STRUCTURED-LOCATION;VALUE=URI;X-ADDRESS=The J 2935 Birch Hollow Dr. Ann Arbor MI 48108 United States;X-APPLE-RADIUS=500;X-TITLE=2935 Birch Hollow Dr.:geo:-83.722389,42.239759
END:VEVENT
BEGIN:VEVENT
DTSTART;TZID=America/Detroit:20250620T090000
DTEND;TZID=America/Detroit:20250620T100000
DTSTAMP:20260422T080313
CREATED:20250326T162420Z
LAST-MODIFIED:20250908T172450Z
UID:10006046-1750410000-1750413600@dev.jccannarbor.org
SUMMARY:ZUMBA in the Gym!
DESCRIPTION:Join us for ZUMBA in the Gym!\n9-10 AM\nZumba is a high intensity\, low impact aerobic dance class.  Features include Latin & international rhythms including merengue\, salsa\, cumbia\, reggaeton\, flamenco\, and samba and Bhangra. Zumba is a dance workout that feels like a party. Everybody at any fitness and dance level is welcome. \nThe workout is designed by mixing low-intensity and high-intensity moves for an interval-style\, calorie-burning dance fitness party.  You will get a total body workout through a combination of easy to follow dance and fitness steps.  You get a total workout that combine cardio\, muscle conditioning\, balance and flexibility\, and boosted energy.  It’s exercise in disguise.  The class duration is for about 60 min\, and includes an intro\, dance\, and cool down part. \nRegistration\n\nDrop-in process – visit the Welcome Desk at the JCC to pay and join the class!\n\nCost\n$5 for J member or community member \nClass policies\n• Gym shoes are required\n• A water bottle is highly recommended \nNew clients should arrive 5 minutes early to fill out a waiver.\nCancellation policy\nIf cancelling less than two hours before class or you do not show\, full price of the class will be forfeited and will not be refunded.  Must call JCC if cancelling.  If class is cancelled due to instructor illness\, weather\, or building closure\, participant will not forfeit class\, and will have an opportunity to make up the class in the next week or a week when they are able to attend.
URL:https://dev.jccannarbor.org/event/zumba-2/2025-06-20/
LOCATION:The J\, 2935 Birch Hollow Dr.\, Ann Arbor\, MI\, 48108\, United States
CATEGORIES:Health & Wellness,Older Adults
GEO:42.239759;-83.722389
X-APPLE-STRUCTURED-LOCATION;VALUE=URI;X-ADDRESS=The J 2935 Birch Hollow Dr. Ann Arbor MI 48108 United States;X-APPLE-RADIUS=500;X-TITLE=2935 Birch Hollow Dr.:geo:-83.722389,42.239759
END:VEVENT
BEGIN:VEVENT
DTSTART;TZID=America/Detroit:20250623T090000
DTEND;TZID=America/Detroit:20250623T100000
DTSTAMP:20260422T080313
CREATED:20250326T162420Z
LAST-MODIFIED:20250908T172450Z
UID:10006047-1750669200-1750672800@dev.jccannarbor.org
SUMMARY:ZUMBA in the Gym!
DESCRIPTION:Join us for ZUMBA in the Gym!\n9-10 AM\nZumba is a high intensity\, low impact aerobic dance class.  Features include Latin & international rhythms including merengue\, salsa\, cumbia\, reggaeton\, flamenco\, and samba and Bhangra. Zumba is a dance workout that feels like a party. Everybody at any fitness and dance level is welcome. \nThe workout is designed by mixing low-intensity and high-intensity moves for an interval-style\, calorie-burning dance fitness party.  You will get a total body workout through a combination of easy to follow dance and fitness steps.  You get a total workout that combine cardio\, muscle conditioning\, balance and flexibility\, and boosted energy.  It’s exercise in disguise.  The class duration is for about 60 min\, and includes an intro\, dance\, and cool down part. \nRegistration\n\nDrop-in process – visit the Welcome Desk at the JCC to pay and join the class!\n\nCost\n$5 for J member or community member \nClass policies\n• Gym shoes are required\n• A water bottle is highly recommended \nNew clients should arrive 5 minutes early to fill out a waiver.\nCancellation policy\nIf cancelling less than two hours before class or you do not show\, full price of the class will be forfeited and will not be refunded.  Must call JCC if cancelling.  If class is cancelled due to instructor illness\, weather\, or building closure\, participant will not forfeit class\, and will have an opportunity to make up the class in the next week or a week when they are able to attend.
URL:https://dev.jccannarbor.org/event/zumba-2/2025-06-23/
LOCATION:The J\, 2935 Birch Hollow Dr.\, Ann Arbor\, MI\, 48108\, United States
CATEGORIES:Health & Wellness,Older Adults
GEO:42.239759;-83.722389
X-APPLE-STRUCTURED-LOCATION;VALUE=URI;X-ADDRESS=The J 2935 Birch Hollow Dr. Ann Arbor MI 48108 United States;X-APPLE-RADIUS=500;X-TITLE=2935 Birch Hollow Dr.:geo:-83.722389,42.239759
END:VEVENT
BEGIN:VEVENT
DTSTART;TZID=America/Detroit:20250625T090000
DTEND;TZID=America/Detroit:20250625T100000
DTSTAMP:20260422T080313
CREATED:20250326T162420Z
LAST-MODIFIED:20250908T172450Z
UID:10006048-1750842000-1750845600@dev.jccannarbor.org
SUMMARY:ZUMBA in the Gym!
DESCRIPTION:Join us for ZUMBA in the Gym!\n9-10 AM\nZumba is a high intensity\, low impact aerobic dance class.  Features include Latin & international rhythms including merengue\, salsa\, cumbia\, reggaeton\, flamenco\, and samba and Bhangra. Zumba is a dance workout that feels like a party. Everybody at any fitness and dance level is welcome. \nThe workout is designed by mixing low-intensity and high-intensity moves for an interval-style\, calorie-burning dance fitness party.  You will get a total body workout through a combination of easy to follow dance and fitness steps.  You get a total workout that combine cardio\, muscle conditioning\, balance and flexibility\, and boosted energy.  It’s exercise in disguise.  The class duration is for about 60 min\, and includes an intro\, dance\, and cool down part. \nRegistration\n\nDrop-in process – visit the Welcome Desk at the JCC to pay and join the class!\n\nCost\n$5 for J member or community member \nClass policies\n• Gym shoes are required\n• A water bottle is highly recommended \nNew clients should arrive 5 minutes early to fill out a waiver.\nCancellation policy\nIf cancelling less than two hours before class or you do not show\, full price of the class will be forfeited and will not be refunded.  Must call JCC if cancelling.  If class is cancelled due to instructor illness\, weather\, or building closure\, participant will not forfeit class\, and will have an opportunity to make up the class in the next week or a week when they are able to attend.
URL:https://dev.jccannarbor.org/event/zumba-2/2025-06-25/
LOCATION:The J\, 2935 Birch Hollow Dr.\, Ann Arbor\, MI\, 48108\, United States
CATEGORIES:Health & Wellness,Older Adults
GEO:42.239759;-83.722389
X-APPLE-STRUCTURED-LOCATION;VALUE=URI;X-ADDRESS=The J 2935 Birch Hollow Dr. Ann Arbor MI 48108 United States;X-APPLE-RADIUS=500;X-TITLE=2935 Birch Hollow Dr.:geo:-83.722389,42.239759
END:VEVENT
BEGIN:VEVENT
DTSTART;TZID=America/Detroit:20250627T090000
DTEND;TZID=America/Detroit:20250627T100000
DTSTAMP:20260422T080313
CREATED:20250326T162420Z
LAST-MODIFIED:20250908T172450Z
UID:10006049-1751014800-1751018400@dev.jccannarbor.org
SUMMARY:ZUMBA in the Gym!
DESCRIPTION:Join us for ZUMBA in the Gym!\n9-10 AM\nZumba is a high intensity\, low impact aerobic dance class.  Features include Latin & international rhythms including merengue\, salsa\, cumbia\, reggaeton\, flamenco\, and samba and Bhangra. Zumba is a dance workout that feels like a party. Everybody at any fitness and dance level is welcome. \nThe workout is designed by mixing low-intensity and high-intensity moves for an interval-style\, calorie-burning dance fitness party.  You will get a total body workout through a combination of easy to follow dance and fitness steps.  You get a total workout that combine cardio\, muscle conditioning\, balance and flexibility\, and boosted energy.  It’s exercise in disguise.  The class duration is for about 60 min\, and includes an intro\, dance\, and cool down part. \nRegistration\n\nDrop-in process – visit the Welcome Desk at the JCC to pay and join the class!\n\nCost\n$5 for J member or community member \nClass policies\n• Gym shoes are required\n• A water bottle is highly recommended \nNew clients should arrive 5 minutes early to fill out a waiver.\nCancellation policy\nIf cancelling less than two hours before class or you do not show\, full price of the class will be forfeited and will not be refunded.  Must call JCC if cancelling.  If class is cancelled due to instructor illness\, weather\, or building closure\, participant will not forfeit class\, and will have an opportunity to make up the class in the next week or a week when they are able to attend.
URL:https://dev.jccannarbor.org/event/zumba-2/2025-06-27/
LOCATION:The J\, 2935 Birch Hollow Dr.\, Ann Arbor\, MI\, 48108\, United States
CATEGORIES:Health & Wellness,Older Adults
GEO:42.239759;-83.722389
X-APPLE-STRUCTURED-LOCATION;VALUE=URI;X-ADDRESS=The J 2935 Birch Hollow Dr. Ann Arbor MI 48108 United States;X-APPLE-RADIUS=500;X-TITLE=2935 Birch Hollow Dr.:geo:-83.722389,42.239759
END:VEVENT
END:VCALENDAR