BEGIN:VCALENDAR
VERSION:2.0
PRODID:-//JCC Dev - ECPv6.15.18//NONSGML v1.0//EN
CALSCALE:GREGORIAN
METHOD:PUBLISH
X-ORIGINAL-URL:https://dev.jccannarbor.org
X-WR-CALDESC:Events for JCC Dev
REFRESH-INTERVAL;VALUE=DURATION:PT1H
X-Robots-Tag:noindex
X-PUBLISHED-TTL:PT1H
BEGIN:VTIMEZONE
TZID:America/Detroit
BEGIN:DAYLIGHT
TZOFFSETFROM:-0500
TZOFFSETTO:-0400
TZNAME:EDT
DTSTART:20250309T070000
END:DAYLIGHT
BEGIN:STANDARD
TZOFFSETFROM:-0400
TZOFFSETTO:-0500
TZNAME:EST
DTSTART:20251102T060000
END:STANDARD
BEGIN:DAYLIGHT
TZOFFSETFROM:-0500
TZOFFSETTO:-0400
TZNAME:EDT
DTSTART:20260308T070000
END:DAYLIGHT
BEGIN:STANDARD
TZOFFSETFROM:-0400
TZOFFSETTO:-0500
TZNAME:EST
DTSTART:20261101T060000
END:STANDARD
BEGIN:DAYLIGHT
TZOFFSETFROM:-0500
TZOFFSETTO:-0400
TZNAME:EDT
DTSTART:20270314T070000
END:DAYLIGHT
BEGIN:STANDARD
TZOFFSETFROM:-0400
TZOFFSETTO:-0500
TZNAME:EST
DTSTART:20271107T060000
END:STANDARD
END:VTIMEZONE
BEGIN:VEVENT
DTSTART;TZID=America/Detroit:20260112T180000
DTEND;TZID=America/Detroit:20260112T190000
DTSTAMP:20260419T141036
CREATED:20251219T184342Z
LAST-MODIFIED:20260220T182945Z
UID:10007775-1768240800-1768244400@dev.jccannarbor.org
SUMMARY:K-Pop Demon Hunters Dance Gymnastics
DESCRIPTION:Register Here
URL:https://dev.jccannarbor.org/event/k-pop-demon-hunters-dance-gymnastics/2026-01-12/
LOCATION:The J\, 2935 Birch Hollow Dr.\, Ann Arbor\, MI\, 48108\, United States
CATEGORIES:Health & Wellness,Youth
GEO:42.239759;-83.722389
X-APPLE-STRUCTURED-LOCATION;VALUE=URI;X-ADDRESS=The J 2935 Birch Hollow Dr. Ann Arbor MI 48108 United States;X-APPLE-RADIUS=500;X-TITLE=2935 Birch Hollow Dr.:geo:-83.722389,42.239759
END:VEVENT
BEGIN:VEVENT
DTSTART;TZID=America/Detroit:20260113T153000
DTEND;TZID=America/Detroit:20260113T180000
DTSTAMP:20260419T141036
CREATED:20251219T185539Z
LAST-MODIFIED:20260204T205555Z
UID:10007796-1768318200-1768327200@dev.jccannarbor.org
SUMMARY:Soccer Stars (with KidZone Care)
DESCRIPTION:Registration is now closed.
URL:https://dev.jccannarbor.org/event/soccer-stars-with-kidzone-care/2026-01-13/
LOCATION:The J\, 2935 Birch Hollow Dr.\, Ann Arbor\, MI\, 48108\, United States
CATEGORIES:KidZone,Youth
GEO:42.239759;-83.722389
X-APPLE-STRUCTURED-LOCATION;VALUE=URI;X-ADDRESS=The J 2935 Birch Hollow Dr. Ann Arbor MI 48108 United States;X-APPLE-RADIUS=500;X-TITLE=2935 Birch Hollow Dr.:geo:-83.722389,42.239759
END:VEVENT
BEGIN:VEVENT
DTSTART;TZID=America/Detroit:20260113T170000
DTEND;TZID=America/Detroit:20260113T180000
DTSTAMP:20260419T141036
CREATED:20251219T185738Z
LAST-MODIFIED:20260204T205752Z
UID:10007856-1768323600-1768327200@dev.jccannarbor.org
SUMMARY:Soccer Stars (without KidZone Care)
DESCRIPTION:Registration is now closed.
URL:https://dev.jccannarbor.org/event/soccer-stars-without-kidzone-care/2026-01-13/
LOCATION:The J\, 2935 Birch Hollow Dr.\, Ann Arbor\, MI\, 48108\, United States
CATEGORIES:Youth
GEO:42.239759;-83.722389
X-APPLE-STRUCTURED-LOCATION;VALUE=URI;X-ADDRESS=The J 2935 Birch Hollow Dr. Ann Arbor MI 48108 United States;X-APPLE-RADIUS=500;X-TITLE=2935 Birch Hollow Dr.:geo:-83.722389,42.239759
END:VEVENT
BEGIN:VEVENT
DTSTART;TZID=America/Detroit:20260114T170000
DTEND;TZID=America/Detroit:20260114T180000
DTSTAMP:20260419T141036
CREATED:20251219T185149Z
LAST-MODIFIED:20260204T205835Z
UID:10007785-1768410000-1768413600@dev.jccannarbor.org
SUMMARY:Theater & Drama
DESCRIPTION:Registration is now closed.
URL:https://dev.jccannarbor.org/event/theater-drama/2026-01-14/
LOCATION:The J\, 2935 Birch Hollow Dr.\, Ann Arbor\, MI\, 48108\, United States
CATEGORIES:KidZone,Youth
GEO:42.239759;-83.722389
X-APPLE-STRUCTURED-LOCATION;VALUE=URI;X-ADDRESS=The J 2935 Birch Hollow Dr. Ann Arbor MI 48108 United States;X-APPLE-RADIUS=500;X-TITLE=2935 Birch Hollow Dr.:geo:-83.722389,42.239759
END:VEVENT
BEGIN:VEVENT
DTSTART;TZID=America/Detroit:20260120T153000
DTEND;TZID=America/Detroit:20260120T180000
DTSTAMP:20260419T141036
CREATED:20251219T185539Z
LAST-MODIFIED:20260204T205555Z
UID:10007797-1768923000-1768932000@dev.jccannarbor.org
SUMMARY:Soccer Stars (with KidZone Care)
DESCRIPTION:Registration is now closed.
URL:https://dev.jccannarbor.org/event/soccer-stars-with-kidzone-care/2026-01-20/
LOCATION:The J\, 2935 Birch Hollow Dr.\, Ann Arbor\, MI\, 48108\, United States
CATEGORIES:KidZone,Youth
GEO:42.239759;-83.722389
X-APPLE-STRUCTURED-LOCATION;VALUE=URI;X-ADDRESS=The J 2935 Birch Hollow Dr. Ann Arbor MI 48108 United States;X-APPLE-RADIUS=500;X-TITLE=2935 Birch Hollow Dr.:geo:-83.722389,42.239759
END:VEVENT
BEGIN:VEVENT
DTSTART;TZID=America/Detroit:20260120T161500
DTEND;TZID=America/Detroit:20260120T171500
DTSTAMP:20260419T141036
CREATED:20260108T213310Z
LAST-MODIFIED:20260204T205703Z
UID:10007934-1768925700-1768929300@dev.jccannarbor.org
SUMMARY:Kids Dungeons & Dragons (Grades 2-5)
DESCRIPTION:Registration is now closed.
URL:https://dev.jccannarbor.org/event/kids-dungeons-dragons-grades-2-5/2026-01-20/
LOCATION:The J\, 2935 Birch Hollow Dr.\, Ann Arbor\, MI\, 48108\, United States
CATEGORIES:Youth
GEO:42.239759;-83.722389
X-APPLE-STRUCTURED-LOCATION;VALUE=URI;X-ADDRESS=The J 2935 Birch Hollow Dr. Ann Arbor MI 48108 United States;X-APPLE-RADIUS=500;X-TITLE=2935 Birch Hollow Dr.:geo:-83.722389,42.239759
END:VEVENT
BEGIN:VEVENT
DTSTART;TZID=America/Detroit:20260120T170000
DTEND;TZID=America/Detroit:20260120T180000
DTSTAMP:20260419T141036
CREATED:20251219T185738Z
LAST-MODIFIED:20260204T205752Z
UID:10007857-1768928400-1768932000@dev.jccannarbor.org
SUMMARY:Soccer Stars (without KidZone Care)
DESCRIPTION:Registration is now closed.
URL:https://dev.jccannarbor.org/event/soccer-stars-without-kidzone-care/2026-01-20/
LOCATION:The J\, 2935 Birch Hollow Dr.\, Ann Arbor\, MI\, 48108\, United States
CATEGORIES:Youth
GEO:42.239759;-83.722389
X-APPLE-STRUCTURED-LOCATION;VALUE=URI;X-ADDRESS=The J 2935 Birch Hollow Dr. Ann Arbor MI 48108 United States;X-APPLE-RADIUS=500;X-TITLE=2935 Birch Hollow Dr.:geo:-83.722389,42.239759
END:VEVENT
BEGIN:VEVENT
DTSTART;TZID=America/Detroit:20260121T170000
DTEND;TZID=America/Detroit:20260121T180000
DTSTAMP:20260419T141036
CREATED:20251219T185149Z
LAST-MODIFIED:20260204T205835Z
UID:10007786-1769014800-1769018400@dev.jccannarbor.org
SUMMARY:Theater & Drama
DESCRIPTION:Registration is now closed.
URL:https://dev.jccannarbor.org/event/theater-drama/2026-01-21/
LOCATION:The J\, 2935 Birch Hollow Dr.\, Ann Arbor\, MI\, 48108\, United States
CATEGORIES:KidZone,Youth
GEO:42.239759;-83.722389
X-APPLE-STRUCTURED-LOCATION;VALUE=URI;X-ADDRESS=The J 2935 Birch Hollow Dr. Ann Arbor MI 48108 United States;X-APPLE-RADIUS=500;X-TITLE=2935 Birch Hollow Dr.:geo:-83.722389,42.239759
END:VEVENT
BEGIN:VEVENT
DTSTART;TZID=America/Detroit:20260126T180000
DTEND;TZID=America/Detroit:20260126T190000
DTSTAMP:20260419T141036
CREATED:20251219T184342Z
LAST-MODIFIED:20260220T182945Z
UID:10007777-1769450400-1769454000@dev.jccannarbor.org
SUMMARY:K-Pop Demon Hunters Dance Gymnastics
DESCRIPTION:Register Here
URL:https://dev.jccannarbor.org/event/k-pop-demon-hunters-dance-gymnastics/2026-01-26/
LOCATION:The J\, 2935 Birch Hollow Dr.\, Ann Arbor\, MI\, 48108\, United States
CATEGORIES:Health & Wellness,Youth
GEO:42.239759;-83.722389
X-APPLE-STRUCTURED-LOCATION;VALUE=URI;X-ADDRESS=The J 2935 Birch Hollow Dr. Ann Arbor MI 48108 United States;X-APPLE-RADIUS=500;X-TITLE=2935 Birch Hollow Dr.:geo:-83.722389,42.239759
END:VEVENT
BEGIN:VEVENT
DTSTART;TZID=America/Detroit:20260127T153000
DTEND;TZID=America/Detroit:20260127T180000
DTSTAMP:20260419T141036
CREATED:20251219T185539Z
LAST-MODIFIED:20260204T205555Z
UID:10007798-1769527800-1769536800@dev.jccannarbor.org
SUMMARY:Soccer Stars (with KidZone Care)
DESCRIPTION:Registration is now closed.
URL:https://dev.jccannarbor.org/event/soccer-stars-with-kidzone-care/2026-01-27/
LOCATION:The J\, 2935 Birch Hollow Dr.\, Ann Arbor\, MI\, 48108\, United States
CATEGORIES:KidZone,Youth
GEO:42.239759;-83.722389
X-APPLE-STRUCTURED-LOCATION;VALUE=URI;X-ADDRESS=The J 2935 Birch Hollow Dr. Ann Arbor MI 48108 United States;X-APPLE-RADIUS=500;X-TITLE=2935 Birch Hollow Dr.:geo:-83.722389,42.239759
END:VEVENT
BEGIN:VEVENT
DTSTART;TZID=America/Detroit:20260127T161500
DTEND;TZID=America/Detroit:20260127T171500
DTSTAMP:20260419T141036
CREATED:20260108T213310Z
LAST-MODIFIED:20260204T205703Z
UID:10007935-1769530500-1769534100@dev.jccannarbor.org
SUMMARY:Kids Dungeons & Dragons (Grades 2-5)
DESCRIPTION:Registration is now closed.
URL:https://dev.jccannarbor.org/event/kids-dungeons-dragons-grades-2-5/2026-01-27/
LOCATION:The J\, 2935 Birch Hollow Dr.\, Ann Arbor\, MI\, 48108\, United States
CATEGORIES:Youth
GEO:42.239759;-83.722389
X-APPLE-STRUCTURED-LOCATION;VALUE=URI;X-ADDRESS=The J 2935 Birch Hollow Dr. Ann Arbor MI 48108 United States;X-APPLE-RADIUS=500;X-TITLE=2935 Birch Hollow Dr.:geo:-83.722389,42.239759
END:VEVENT
BEGIN:VEVENT
DTSTART;TZID=America/Detroit:20260127T170000
DTEND;TZID=America/Detroit:20260127T180000
DTSTAMP:20260419T141036
CREATED:20251219T185738Z
LAST-MODIFIED:20260204T205752Z
UID:10007858-1769533200-1769536800@dev.jccannarbor.org
SUMMARY:Soccer Stars (without KidZone Care)
DESCRIPTION:Registration is now closed.
URL:https://dev.jccannarbor.org/event/soccer-stars-without-kidzone-care/2026-01-27/
LOCATION:The J\, 2935 Birch Hollow Dr.\, Ann Arbor\, MI\, 48108\, United States
CATEGORIES:Youth
GEO:42.239759;-83.722389
X-APPLE-STRUCTURED-LOCATION;VALUE=URI;X-ADDRESS=The J 2935 Birch Hollow Dr. Ann Arbor MI 48108 United States;X-APPLE-RADIUS=500;X-TITLE=2935 Birch Hollow Dr.:geo:-83.722389,42.239759
END:VEVENT
BEGIN:VEVENT
DTSTART;TZID=America/Detroit:20260128T170000
DTEND;TZID=America/Detroit:20260128T180000
DTSTAMP:20260419T141036
CREATED:20251219T185149Z
LAST-MODIFIED:20260204T205835Z
UID:10007787-1769619600-1769623200@dev.jccannarbor.org
SUMMARY:Theater & Drama
DESCRIPTION:Registration is now closed.
URL:https://dev.jccannarbor.org/event/theater-drama/2026-01-28/
LOCATION:The J\, 2935 Birch Hollow Dr.\, Ann Arbor\, MI\, 48108\, United States
CATEGORIES:KidZone,Youth
GEO:42.239759;-83.722389
X-APPLE-STRUCTURED-LOCATION;VALUE=URI;X-ADDRESS=The J 2935 Birch Hollow Dr. Ann Arbor MI 48108 United States;X-APPLE-RADIUS=500;X-TITLE=2935 Birch Hollow Dr.:geo:-83.722389,42.239759
END:VEVENT
END:VCALENDAR