BEGIN:VCALENDAR
VERSION:2.0
PRODID:-//JCC Dev - ECPv6.15.18//NONSGML v1.0//EN
CALSCALE:GREGORIAN
METHOD:PUBLISH
X-ORIGINAL-URL:https://dev.jccannarbor.org
X-WR-CALDESC:Events for JCC Dev
REFRESH-INTERVAL;VALUE=DURATION:PT1H
X-Robots-Tag:noindex
X-PUBLISHED-TTL:PT1H
BEGIN:VTIMEZONE
TZID:America/Detroit
BEGIN:DAYLIGHT
TZOFFSETFROM:-0500
TZOFFSETTO:-0400
TZNAME:EDT
DTSTART:20250309T070000
END:DAYLIGHT
BEGIN:STANDARD
TZOFFSETFROM:-0400
TZOFFSETTO:-0500
TZNAME:EST
DTSTART:20251102T060000
END:STANDARD
BEGIN:DAYLIGHT
TZOFFSETFROM:-0500
TZOFFSETTO:-0400
TZNAME:EDT
DTSTART:20260308T070000
END:DAYLIGHT
BEGIN:STANDARD
TZOFFSETFROM:-0400
TZOFFSETTO:-0500
TZNAME:EST
DTSTART:20261101T060000
END:STANDARD
BEGIN:DAYLIGHT
TZOFFSETFROM:-0500
TZOFFSETTO:-0400
TZNAME:EDT
DTSTART:20270314T070000
END:DAYLIGHT
BEGIN:STANDARD
TZOFFSETFROM:-0400
TZOFFSETTO:-0500
TZNAME:EST
DTSTART:20271107T060000
END:STANDARD
BEGIN:DAYLIGHT
TZOFFSETFROM:-0500
TZOFFSETTO:-0400
TZNAME:EDT
DTSTART:20280312T070000
END:DAYLIGHT
BEGIN:STANDARD
TZOFFSETFROM:-0400
TZOFFSETTO:-0500
TZNAME:EST
DTSTART:20281105T060000
END:STANDARD
BEGIN:DAYLIGHT
TZOFFSETFROM:-0500
TZOFFSETTO:-0400
TZNAME:EDT
DTSTART:20290311T070000
END:DAYLIGHT
BEGIN:STANDARD
TZOFFSETFROM:-0400
TZOFFSETTO:-0500
TZNAME:EST
DTSTART:20291104T060000
END:STANDARD
BEGIN:DAYLIGHT
TZOFFSETFROM:-0500
TZOFFSETTO:-0400
TZNAME:EDT
DTSTART:20300310T070000
END:DAYLIGHT
BEGIN:STANDARD
TZOFFSETFROM:-0400
TZOFFSETTO:-0500
TZNAME:EST
DTSTART:20301103T060000
END:STANDARD
BEGIN:DAYLIGHT
TZOFFSETFROM:-0500
TZOFFSETTO:-0400
TZNAME:EDT
DTSTART:20310309T070000
END:DAYLIGHT
BEGIN:STANDARD
TZOFFSETFROM:-0400
TZOFFSETTO:-0500
TZNAME:EST
DTSTART:20311102T060000
END:STANDARD
BEGIN:DAYLIGHT
TZOFFSETFROM:-0500
TZOFFSETTO:-0400
TZNAME:EDT
DTSTART:20320314T070000
END:DAYLIGHT
BEGIN:STANDARD
TZOFFSETFROM:-0400
TZOFFSETTO:-0500
TZNAME:EST
DTSTART:20321107T060000
END:STANDARD
BEGIN:DAYLIGHT
TZOFFSETFROM:-0500
TZOFFSETTO:-0400
TZNAME:EDT
DTSTART:20330313T070000
END:DAYLIGHT
BEGIN:STANDARD
TZOFFSETFROM:-0400
TZOFFSETTO:-0500
TZNAME:EST
DTSTART:20331106T060000
END:STANDARD
BEGIN:DAYLIGHT
TZOFFSETFROM:-0500
TZOFFSETTO:-0400
TZNAME:EDT
DTSTART:20340312T070000
END:DAYLIGHT
BEGIN:STANDARD
TZOFFSETFROM:-0400
TZOFFSETTO:-0500
TZNAME:EST
DTSTART:20341105T060000
END:STANDARD
BEGIN:DAYLIGHT
TZOFFSETFROM:-0500
TZOFFSETTO:-0400
TZNAME:EDT
DTSTART:20350311T070000
END:DAYLIGHT
BEGIN:STANDARD
TZOFFSETFROM:-0400
TZOFFSETTO:-0500
TZNAME:EST
DTSTART:20351104T060000
END:STANDARD
BEGIN:DAYLIGHT
TZOFFSETFROM:-0500
TZOFFSETTO:-0400
TZNAME:EDT
DTSTART:20360309T070000
END:DAYLIGHT
BEGIN:STANDARD
TZOFFSETFROM:-0400
TZOFFSETTO:-0500
TZNAME:EST
DTSTART:20361102T060000
END:STANDARD
BEGIN:DAYLIGHT
TZOFFSETFROM:-0500
TZOFFSETTO:-0400
TZNAME:EDT
DTSTART:20370308T070000
END:DAYLIGHT
BEGIN:STANDARD
TZOFFSETFROM:-0400
TZOFFSETTO:-0500
TZNAME:EST
DTSTART:20371101T060000
END:STANDARD
END:VTIMEZONE
BEGIN:VEVENT
DTSTART;TZID=America/Detroit:20261124T170000
DTEND;TZID=America/Detroit:20261124T180000
DTSTAMP:20260420T000451
CREATED:20251219T185738Z
LAST-MODIFIED:20260204T205752Z
UID:10007901-1795539600-1795543200@dev.jccannarbor.org
SUMMARY:Soccer Stars (without KidZone Care)
DESCRIPTION:Registration is now closed.
URL:https://dev.jccannarbor.org/event/soccer-stars-without-kidzone-care/2026-11-24/
LOCATION:The J\, 2935 Birch Hollow Dr.\, Ann Arbor\, MI\, 48108\, United States
CATEGORIES:Youth
GEO:42.239759;-83.722389
X-APPLE-STRUCTURED-LOCATION;VALUE=URI;X-ADDRESS=The J 2935 Birch Hollow Dr. Ann Arbor MI 48108 United States;X-APPLE-RADIUS=500;X-TITLE=2935 Birch Hollow Dr.:geo:-83.722389,42.239759
END:VEVENT
BEGIN:VEVENT
DTSTART;TZID=America/Detroit:20261201T153000
DTEND;TZID=America/Detroit:20261201T180000
DTSTAMP:20260420T000451
CREATED:20251219T185539Z
LAST-MODIFIED:20260204T205555Z
UID:10007842-1796139000-1796148000@dev.jccannarbor.org
SUMMARY:Soccer Stars (with KidZone Care)
DESCRIPTION:Registration is now closed.
URL:https://dev.jccannarbor.org/event/soccer-stars-with-kidzone-care/2026-12-01/
LOCATION:The J\, 2935 Birch Hollow Dr.\, Ann Arbor\, MI\, 48108\, United States
CATEGORIES:KidZone,Youth
GEO:42.239759;-83.722389
X-APPLE-STRUCTURED-LOCATION;VALUE=URI;X-ADDRESS=The J 2935 Birch Hollow Dr. Ann Arbor MI 48108 United States;X-APPLE-RADIUS=500;X-TITLE=2935 Birch Hollow Dr.:geo:-83.722389,42.239759
END:VEVENT
BEGIN:VEVENT
DTSTART;TZID=America/Detroit:20261201T170000
DTEND;TZID=America/Detroit:20261201T180000
DTSTAMP:20260420T000451
CREATED:20251219T185738Z
LAST-MODIFIED:20260204T205752Z
UID:10007902-1796144400-1796148000@dev.jccannarbor.org
SUMMARY:Soccer Stars (without KidZone Care)
DESCRIPTION:Registration is now closed.
URL:https://dev.jccannarbor.org/event/soccer-stars-without-kidzone-care/2026-12-01/
LOCATION:The J\, 2935 Birch Hollow Dr.\, Ann Arbor\, MI\, 48108\, United States
CATEGORIES:Youth
GEO:42.239759;-83.722389
X-APPLE-STRUCTURED-LOCATION;VALUE=URI;X-ADDRESS=The J 2935 Birch Hollow Dr. Ann Arbor MI 48108 United States;X-APPLE-RADIUS=500;X-TITLE=2935 Birch Hollow Dr.:geo:-83.722389,42.239759
END:VEVENT
BEGIN:VEVENT
DTSTART;TZID=America/Detroit:20261208T153000
DTEND;TZID=America/Detroit:20261208T180000
DTSTAMP:20260420T000451
CREATED:20251219T185539Z
LAST-MODIFIED:20260204T205555Z
UID:10007843-1796743800-1796752800@dev.jccannarbor.org
SUMMARY:Soccer Stars (with KidZone Care)
DESCRIPTION:Registration is now closed.
URL:https://dev.jccannarbor.org/event/soccer-stars-with-kidzone-care/2026-12-08/
LOCATION:The J\, 2935 Birch Hollow Dr.\, Ann Arbor\, MI\, 48108\, United States
CATEGORIES:KidZone,Youth
GEO:42.239759;-83.722389
X-APPLE-STRUCTURED-LOCATION;VALUE=URI;X-ADDRESS=The J 2935 Birch Hollow Dr. Ann Arbor MI 48108 United States;X-APPLE-RADIUS=500;X-TITLE=2935 Birch Hollow Dr.:geo:-83.722389,42.239759
END:VEVENT
BEGIN:VEVENT
DTSTART;TZID=America/Detroit:20261208T170000
DTEND;TZID=America/Detroit:20261208T180000
DTSTAMP:20260420T000451
CREATED:20251219T185738Z
LAST-MODIFIED:20260204T205752Z
UID:10007903-1796749200-1796752800@dev.jccannarbor.org
SUMMARY:Soccer Stars (without KidZone Care)
DESCRIPTION:Registration is now closed.
URL:https://dev.jccannarbor.org/event/soccer-stars-without-kidzone-care/2026-12-08/
LOCATION:The J\, 2935 Birch Hollow Dr.\, Ann Arbor\, MI\, 48108\, United States
CATEGORIES:Youth
GEO:42.239759;-83.722389
X-APPLE-STRUCTURED-LOCATION;VALUE=URI;X-ADDRESS=The J 2935 Birch Hollow Dr. Ann Arbor MI 48108 United States;X-APPLE-RADIUS=500;X-TITLE=2935 Birch Hollow Dr.:geo:-83.722389,42.239759
END:VEVENT
BEGIN:VEVENT
DTSTART;TZID=America/Detroit:20261215T153000
DTEND;TZID=America/Detroit:20261215T180000
DTSTAMP:20260420T000451
CREATED:20251219T185539Z
LAST-MODIFIED:20260204T205555Z
UID:10007844-1797348600-1797357600@dev.jccannarbor.org
SUMMARY:Soccer Stars (with KidZone Care)
DESCRIPTION:Registration is now closed.
URL:https://dev.jccannarbor.org/event/soccer-stars-with-kidzone-care/2026-12-15/
LOCATION:The J\, 2935 Birch Hollow Dr.\, Ann Arbor\, MI\, 48108\, United States
CATEGORIES:KidZone,Youth
GEO:42.239759;-83.722389
X-APPLE-STRUCTURED-LOCATION;VALUE=URI;X-ADDRESS=The J 2935 Birch Hollow Dr. Ann Arbor MI 48108 United States;X-APPLE-RADIUS=500;X-TITLE=2935 Birch Hollow Dr.:geo:-83.722389,42.239759
END:VEVENT
BEGIN:VEVENT
DTSTART;TZID=America/Detroit:20261215T170000
DTEND;TZID=America/Detroit:20261215T180000
DTSTAMP:20260420T000451
CREATED:20251219T185738Z
LAST-MODIFIED:20260204T205752Z
UID:10007904-1797354000-1797357600@dev.jccannarbor.org
SUMMARY:Soccer Stars (without KidZone Care)
DESCRIPTION:Registration is now closed.
URL:https://dev.jccannarbor.org/event/soccer-stars-without-kidzone-care/2026-12-15/
LOCATION:The J\, 2935 Birch Hollow Dr.\, Ann Arbor\, MI\, 48108\, United States
CATEGORIES:Youth
GEO:42.239759;-83.722389
X-APPLE-STRUCTURED-LOCATION;VALUE=URI;X-ADDRESS=The J 2935 Birch Hollow Dr. Ann Arbor MI 48108 United States;X-APPLE-RADIUS=500;X-TITLE=2935 Birch Hollow Dr.:geo:-83.722389,42.239759
END:VEVENT
BEGIN:VEVENT
DTSTART;TZID=America/Detroit:20261222T153000
DTEND;TZID=America/Detroit:20261222T180000
DTSTAMP:20260420T000451
CREATED:20251219T185539Z
LAST-MODIFIED:20260204T205555Z
UID:10007845-1797953400-1797962400@dev.jccannarbor.org
SUMMARY:Soccer Stars (with KidZone Care)
DESCRIPTION:Registration is now closed.
URL:https://dev.jccannarbor.org/event/soccer-stars-with-kidzone-care/2026-12-22/
LOCATION:The J\, 2935 Birch Hollow Dr.\, Ann Arbor\, MI\, 48108\, United States
CATEGORIES:KidZone,Youth
GEO:42.239759;-83.722389
X-APPLE-STRUCTURED-LOCATION;VALUE=URI;X-ADDRESS=The J 2935 Birch Hollow Dr. Ann Arbor MI 48108 United States;X-APPLE-RADIUS=500;X-TITLE=2935 Birch Hollow Dr.:geo:-83.722389,42.239759
END:VEVENT
BEGIN:VEVENT
DTSTART;TZID=America/Detroit:20261222T170000
DTEND;TZID=America/Detroit:20261222T180000
DTSTAMP:20260420T000451
CREATED:20251219T185738Z
LAST-MODIFIED:20260204T205752Z
UID:10007905-1797958800-1797962400@dev.jccannarbor.org
SUMMARY:Soccer Stars (without KidZone Care)
DESCRIPTION:Registration is now closed.
URL:https://dev.jccannarbor.org/event/soccer-stars-without-kidzone-care/2026-12-22/
LOCATION:The J\, 2935 Birch Hollow Dr.\, Ann Arbor\, MI\, 48108\, United States
CATEGORIES:Youth
GEO:42.239759;-83.722389
X-APPLE-STRUCTURED-LOCATION;VALUE=URI;X-ADDRESS=The J 2935 Birch Hollow Dr. Ann Arbor MI 48108 United States;X-APPLE-RADIUS=500;X-TITLE=2935 Birch Hollow Dr.:geo:-83.722389,42.239759
END:VEVENT
BEGIN:VEVENT
DTSTART;TZID=America/Detroit:20261229T153000
DTEND;TZID=America/Detroit:20261229T180000
DTSTAMP:20260420T000451
CREATED:20251219T185539Z
LAST-MODIFIED:20260204T205555Z
UID:10007846-1798558200-1798567200@dev.jccannarbor.org
SUMMARY:Soccer Stars (with KidZone Care)
DESCRIPTION:Registration is now closed.
URL:https://dev.jccannarbor.org/event/soccer-stars-with-kidzone-care/2026-12-29/
LOCATION:The J\, 2935 Birch Hollow Dr.\, Ann Arbor\, MI\, 48108\, United States
CATEGORIES:KidZone,Youth
GEO:42.239759;-83.722389
X-APPLE-STRUCTURED-LOCATION;VALUE=URI;X-ADDRESS=The J 2935 Birch Hollow Dr. Ann Arbor MI 48108 United States;X-APPLE-RADIUS=500;X-TITLE=2935 Birch Hollow Dr.:geo:-83.722389,42.239759
END:VEVENT
BEGIN:VEVENT
DTSTART;TZID=America/Detroit:20261229T170000
DTEND;TZID=America/Detroit:20261229T180000
DTSTAMP:20260420T000451
CREATED:20251219T185738Z
LAST-MODIFIED:20260204T205752Z
UID:10007906-1798563600-1798567200@dev.jccannarbor.org
SUMMARY:Soccer Stars (without KidZone Care)
DESCRIPTION:Registration is now closed.
URL:https://dev.jccannarbor.org/event/soccer-stars-without-kidzone-care/2026-12-29/
LOCATION:The J\, 2935 Birch Hollow Dr.\, Ann Arbor\, MI\, 48108\, United States
CATEGORIES:Youth
GEO:42.239759;-83.722389
X-APPLE-STRUCTURED-LOCATION;VALUE=URI;X-ADDRESS=The J 2935 Birch Hollow Dr. Ann Arbor MI 48108 United States;X-APPLE-RADIUS=500;X-TITLE=2935 Birch Hollow Dr.:geo:-83.722389,42.239759
END:VEVENT
BEGIN:VEVENT
DTSTART;TZID=America/Detroit:20270105T153000
DTEND;TZID=America/Detroit:20270105T180000
DTSTAMP:20260420T000451
CREATED:20251219T185539Z
LAST-MODIFIED:20260204T205555Z
UID:10007847-1799163000-1799172000@dev.jccannarbor.org
SUMMARY:Soccer Stars (with KidZone Care)
DESCRIPTION:Registration is now closed.
URL:https://dev.jccannarbor.org/event/soccer-stars-with-kidzone-care/2027-01-05/
LOCATION:The J\, 2935 Birch Hollow Dr.\, Ann Arbor\, MI\, 48108\, United States
CATEGORIES:KidZone,Youth
GEO:42.239759;-83.722389
X-APPLE-STRUCTURED-LOCATION;VALUE=URI;X-ADDRESS=The J 2935 Birch Hollow Dr. Ann Arbor MI 48108 United States;X-APPLE-RADIUS=500;X-TITLE=2935 Birch Hollow Dr.:geo:-83.722389,42.239759
END:VEVENT
BEGIN:VEVENT
DTSTART;TZID=America/Detroit:20270105T170000
DTEND;TZID=America/Detroit:20270105T180000
DTSTAMP:20260420T000451
CREATED:20251219T185738Z
LAST-MODIFIED:20260204T205752Z
UID:10007907-1799168400-1799172000@dev.jccannarbor.org
SUMMARY:Soccer Stars (without KidZone Care)
DESCRIPTION:Registration is now closed.
URL:https://dev.jccannarbor.org/event/soccer-stars-without-kidzone-care/2027-01-05/
LOCATION:The J\, 2935 Birch Hollow Dr.\, Ann Arbor\, MI\, 48108\, United States
CATEGORIES:Youth
GEO:42.239759;-83.722389
X-APPLE-STRUCTURED-LOCATION;VALUE=URI;X-ADDRESS=The J 2935 Birch Hollow Dr. Ann Arbor MI 48108 United States;X-APPLE-RADIUS=500;X-TITLE=2935 Birch Hollow Dr.:geo:-83.722389,42.239759
END:VEVENT
BEGIN:VEVENT
DTSTART;TZID=America/Detroit:20270112T153000
DTEND;TZID=America/Detroit:20270112T180000
DTSTAMP:20260420T000451
CREATED:20251219T185539Z
LAST-MODIFIED:20260204T205555Z
UID:10007848-1799767800-1799776800@dev.jccannarbor.org
SUMMARY:Soccer Stars (with KidZone Care)
DESCRIPTION:Registration is now closed.
URL:https://dev.jccannarbor.org/event/soccer-stars-with-kidzone-care/2027-01-12/
LOCATION:The J\, 2935 Birch Hollow Dr.\, Ann Arbor\, MI\, 48108\, United States
CATEGORIES:KidZone,Youth
GEO:42.239759;-83.722389
X-APPLE-STRUCTURED-LOCATION;VALUE=URI;X-ADDRESS=The J 2935 Birch Hollow Dr. Ann Arbor MI 48108 United States;X-APPLE-RADIUS=500;X-TITLE=2935 Birch Hollow Dr.:geo:-83.722389,42.239759
END:VEVENT
BEGIN:VEVENT
DTSTART;TZID=America/Detroit:20270112T170000
DTEND;TZID=America/Detroit:20270112T180000
DTSTAMP:20260420T000451
CREATED:20251219T185738Z
LAST-MODIFIED:20260204T205752Z
UID:10007908-1799773200-1799776800@dev.jccannarbor.org
SUMMARY:Soccer Stars (without KidZone Care)
DESCRIPTION:Registration is now closed.
URL:https://dev.jccannarbor.org/event/soccer-stars-without-kidzone-care/2027-01-12/
LOCATION:The J\, 2935 Birch Hollow Dr.\, Ann Arbor\, MI\, 48108\, United States
CATEGORIES:Youth
GEO:42.239759;-83.722389
X-APPLE-STRUCTURED-LOCATION;VALUE=URI;X-ADDRESS=The J 2935 Birch Hollow Dr. Ann Arbor MI 48108 United States;X-APPLE-RADIUS=500;X-TITLE=2935 Birch Hollow Dr.:geo:-83.722389,42.239759
END:VEVENT
BEGIN:VEVENT
DTSTART;TZID=America/Detroit:20270119T153000
DTEND;TZID=America/Detroit:20270119T180000
DTSTAMP:20260420T000451
CREATED:20251219T185539Z
LAST-MODIFIED:20260204T205555Z
UID:10007849-1800372600-1800381600@dev.jccannarbor.org
SUMMARY:Soccer Stars (with KidZone Care)
DESCRIPTION:Registration is now closed.
URL:https://dev.jccannarbor.org/event/soccer-stars-with-kidzone-care/2027-01-19/
LOCATION:The J\, 2935 Birch Hollow Dr.\, Ann Arbor\, MI\, 48108\, United States
CATEGORIES:KidZone,Youth
GEO:42.239759;-83.722389
X-APPLE-STRUCTURED-LOCATION;VALUE=URI;X-ADDRESS=The J 2935 Birch Hollow Dr. Ann Arbor MI 48108 United States;X-APPLE-RADIUS=500;X-TITLE=2935 Birch Hollow Dr.:geo:-83.722389,42.239759
END:VEVENT
BEGIN:VEVENT
DTSTART;TZID=America/Detroit:20270119T170000
DTEND;TZID=America/Detroit:20270119T180000
DTSTAMP:20260420T000451
CREATED:20251219T185738Z
LAST-MODIFIED:20260204T205752Z
UID:10007909-1800378000-1800381600@dev.jccannarbor.org
SUMMARY:Soccer Stars (without KidZone Care)
DESCRIPTION:Registration is now closed.
URL:https://dev.jccannarbor.org/event/soccer-stars-without-kidzone-care/2027-01-19/
LOCATION:The J\, 2935 Birch Hollow Dr.\, Ann Arbor\, MI\, 48108\, United States
CATEGORIES:Youth
GEO:42.239759;-83.722389
X-APPLE-STRUCTURED-LOCATION;VALUE=URI;X-ADDRESS=The J 2935 Birch Hollow Dr. Ann Arbor MI 48108 United States;X-APPLE-RADIUS=500;X-TITLE=2935 Birch Hollow Dr.:geo:-83.722389,42.239759
END:VEVENT
BEGIN:VEVENT
DTSTART;TZID=America/Detroit:20270126T153000
DTEND;TZID=America/Detroit:20270126T180000
DTSTAMP:20260420T000451
CREATED:20251219T185539Z
LAST-MODIFIED:20260204T205555Z
UID:10007850-1800977400-1800986400@dev.jccannarbor.org
SUMMARY:Soccer Stars (with KidZone Care)
DESCRIPTION:Registration is now closed.
URL:https://dev.jccannarbor.org/event/soccer-stars-with-kidzone-care/2027-01-26/
LOCATION:The J\, 2935 Birch Hollow Dr.\, Ann Arbor\, MI\, 48108\, United States
CATEGORIES:KidZone,Youth
GEO:42.239759;-83.722389
X-APPLE-STRUCTURED-LOCATION;VALUE=URI;X-ADDRESS=The J 2935 Birch Hollow Dr. Ann Arbor MI 48108 United States;X-APPLE-RADIUS=500;X-TITLE=2935 Birch Hollow Dr.:geo:-83.722389,42.239759
END:VEVENT
BEGIN:VEVENT
DTSTART;TZID=America/Detroit:20270126T170000
DTEND;TZID=America/Detroit:20270126T180000
DTSTAMP:20260420T000451
CREATED:20251219T185738Z
LAST-MODIFIED:20260204T205752Z
UID:10007910-1800982800-1800986400@dev.jccannarbor.org
SUMMARY:Soccer Stars (without KidZone Care)
DESCRIPTION:Registration is now closed.
URL:https://dev.jccannarbor.org/event/soccer-stars-without-kidzone-care/2027-01-26/
LOCATION:The J\, 2935 Birch Hollow Dr.\, Ann Arbor\, MI\, 48108\, United States
CATEGORIES:Youth
GEO:42.239759;-83.722389
X-APPLE-STRUCTURED-LOCATION;VALUE=URI;X-ADDRESS=The J 2935 Birch Hollow Dr. Ann Arbor MI 48108 United States;X-APPLE-RADIUS=500;X-TITLE=2935 Birch Hollow Dr.:geo:-83.722389,42.239759
END:VEVENT
BEGIN:VEVENT
DTSTART;TZID=America/Detroit:20270202T153000
DTEND;TZID=America/Detroit:20270202T180000
DTSTAMP:20260420T000451
CREATED:20251219T185539Z
LAST-MODIFIED:20260204T205555Z
UID:10007851-1801582200-1801591200@dev.jccannarbor.org
SUMMARY:Soccer Stars (with KidZone Care)
DESCRIPTION:Registration is now closed.
URL:https://dev.jccannarbor.org/event/soccer-stars-with-kidzone-care/2027-02-02/
LOCATION:The J\, 2935 Birch Hollow Dr.\, Ann Arbor\, MI\, 48108\, United States
CATEGORIES:KidZone,Youth
GEO:42.239759;-83.722389
X-APPLE-STRUCTURED-LOCATION;VALUE=URI;X-ADDRESS=The J 2935 Birch Hollow Dr. Ann Arbor MI 48108 United States;X-APPLE-RADIUS=500;X-TITLE=2935 Birch Hollow Dr.:geo:-83.722389,42.239759
END:VEVENT
BEGIN:VEVENT
DTSTART;TZID=America/Detroit:20270202T170000
DTEND;TZID=America/Detroit:20270202T180000
DTSTAMP:20260420T000451
CREATED:20251219T185738Z
LAST-MODIFIED:20260204T205752Z
UID:10007911-1801587600-1801591200@dev.jccannarbor.org
SUMMARY:Soccer Stars (without KidZone Care)
DESCRIPTION:Registration is now closed.
URL:https://dev.jccannarbor.org/event/soccer-stars-without-kidzone-care/2027-02-02/
LOCATION:The J\, 2935 Birch Hollow Dr.\, Ann Arbor\, MI\, 48108\, United States
CATEGORIES:Youth
GEO:42.239759;-83.722389
X-APPLE-STRUCTURED-LOCATION;VALUE=URI;X-ADDRESS=The J 2935 Birch Hollow Dr. Ann Arbor MI 48108 United States;X-APPLE-RADIUS=500;X-TITLE=2935 Birch Hollow Dr.:geo:-83.722389,42.239759
END:VEVENT
BEGIN:VEVENT
DTSTART;TZID=America/Detroit:20270209T153000
DTEND;TZID=America/Detroit:20270209T180000
DTSTAMP:20260420T000451
CREATED:20251219T185539Z
LAST-MODIFIED:20260204T205555Z
UID:10007852-1802187000-1802196000@dev.jccannarbor.org
SUMMARY:Soccer Stars (with KidZone Care)
DESCRIPTION:Registration is now closed.
URL:https://dev.jccannarbor.org/event/soccer-stars-with-kidzone-care/2027-02-09/
LOCATION:The J\, 2935 Birch Hollow Dr.\, Ann Arbor\, MI\, 48108\, United States
CATEGORIES:KidZone,Youth
GEO:42.239759;-83.722389
X-APPLE-STRUCTURED-LOCATION;VALUE=URI;X-ADDRESS=The J 2935 Birch Hollow Dr. Ann Arbor MI 48108 United States;X-APPLE-RADIUS=500;X-TITLE=2935 Birch Hollow Dr.:geo:-83.722389,42.239759
END:VEVENT
BEGIN:VEVENT
DTSTART;TZID=America/Detroit:20270209T170000
DTEND;TZID=America/Detroit:20270209T180000
DTSTAMP:20260420T000451
CREATED:20251219T185738Z
LAST-MODIFIED:20260204T205752Z
UID:10007912-1802192400-1802196000@dev.jccannarbor.org
SUMMARY:Soccer Stars (without KidZone Care)
DESCRIPTION:Registration is now closed.
URL:https://dev.jccannarbor.org/event/soccer-stars-without-kidzone-care/2027-02-09/
LOCATION:The J\, 2935 Birch Hollow Dr.\, Ann Arbor\, MI\, 48108\, United States
CATEGORIES:Youth
GEO:42.239759;-83.722389
X-APPLE-STRUCTURED-LOCATION;VALUE=URI;X-ADDRESS=The J 2935 Birch Hollow Dr. Ann Arbor MI 48108 United States;X-APPLE-RADIUS=500;X-TITLE=2935 Birch Hollow Dr.:geo:-83.722389,42.239759
END:VEVENT
BEGIN:VEVENT
DTSTART;TZID=America/Detroit:20270216T153000
DTEND;TZID=America/Detroit:20270216T180000
DTSTAMP:20260420T000451
CREATED:20251219T185539Z
LAST-MODIFIED:20260204T205555Z
UID:10007853-1802791800-1802800800@dev.jccannarbor.org
SUMMARY:Soccer Stars (with KidZone Care)
DESCRIPTION:Registration is now closed.
URL:https://dev.jccannarbor.org/event/soccer-stars-with-kidzone-care/2027-02-16/
LOCATION:The J\, 2935 Birch Hollow Dr.\, Ann Arbor\, MI\, 48108\, United States
CATEGORIES:KidZone,Youth
GEO:42.239759;-83.722389
X-APPLE-STRUCTURED-LOCATION;VALUE=URI;X-ADDRESS=The J 2935 Birch Hollow Dr. Ann Arbor MI 48108 United States;X-APPLE-RADIUS=500;X-TITLE=2935 Birch Hollow Dr.:geo:-83.722389,42.239759
END:VEVENT
BEGIN:VEVENT
DTSTART;TZID=America/Detroit:20270216T170000
DTEND;TZID=America/Detroit:20270216T180000
DTSTAMP:20260420T000451
CREATED:20251219T185738Z
LAST-MODIFIED:20260204T205752Z
UID:10007913-1802797200-1802800800@dev.jccannarbor.org
SUMMARY:Soccer Stars (without KidZone Care)
DESCRIPTION:Registration is now closed.
URL:https://dev.jccannarbor.org/event/soccer-stars-without-kidzone-care/2027-02-16/
LOCATION:The J\, 2935 Birch Hollow Dr.\, Ann Arbor\, MI\, 48108\, United States
CATEGORIES:Youth
GEO:42.239759;-83.722389
X-APPLE-STRUCTURED-LOCATION;VALUE=URI;X-ADDRESS=The J 2935 Birch Hollow Dr. Ann Arbor MI 48108 United States;X-APPLE-RADIUS=500;X-TITLE=2935 Birch Hollow Dr.:geo:-83.722389,42.239759
END:VEVENT
BEGIN:VEVENT
DTSTART;TZID=America/Detroit:20270223T153000
DTEND;TZID=America/Detroit:20270223T180000
DTSTAMP:20260420T000451
CREATED:20251219T185539Z
LAST-MODIFIED:20260204T205555Z
UID:10007854-1803396600-1803405600@dev.jccannarbor.org
SUMMARY:Soccer Stars (with KidZone Care)
DESCRIPTION:Registration is now closed.
URL:https://dev.jccannarbor.org/event/soccer-stars-with-kidzone-care/2027-02-23/
LOCATION:The J\, 2935 Birch Hollow Dr.\, Ann Arbor\, MI\, 48108\, United States
CATEGORIES:KidZone,Youth
GEO:42.239759;-83.722389
X-APPLE-STRUCTURED-LOCATION;VALUE=URI;X-ADDRESS=The J 2935 Birch Hollow Dr. Ann Arbor MI 48108 United States;X-APPLE-RADIUS=500;X-TITLE=2935 Birch Hollow Dr.:geo:-83.722389,42.239759
END:VEVENT
BEGIN:VEVENT
DTSTART;TZID=America/Detroit:20270223T170000
DTEND;TZID=America/Detroit:20270223T180000
DTSTAMP:20260420T000451
CREATED:20251219T185738Z
LAST-MODIFIED:20260204T205752Z
UID:10007914-1803402000-1803405600@dev.jccannarbor.org
SUMMARY:Soccer Stars (without KidZone Care)
DESCRIPTION:Registration is now closed.
URL:https://dev.jccannarbor.org/event/soccer-stars-without-kidzone-care/2027-02-23/
LOCATION:The J\, 2935 Birch Hollow Dr.\, Ann Arbor\, MI\, 48108\, United States
CATEGORIES:Youth
GEO:42.239759;-83.722389
X-APPLE-STRUCTURED-LOCATION;VALUE=URI;X-ADDRESS=The J 2935 Birch Hollow Dr. Ann Arbor MI 48108 United States;X-APPLE-RADIUS=500;X-TITLE=2935 Birch Hollow Dr.:geo:-83.722389,42.239759
END:VEVENT
BEGIN:VEVENT
DTSTART;TZID=America/Detroit:20270302T153000
DTEND;TZID=America/Detroit:20270302T180000
DTSTAMP:20260420T000451
CREATED:20251219T185539Z
LAST-MODIFIED:20260204T205555Z
UID:10007855-1804001400-1804010400@dev.jccannarbor.org
SUMMARY:Soccer Stars (with KidZone Care)
DESCRIPTION:Registration is now closed.
URL:https://dev.jccannarbor.org/event/soccer-stars-with-kidzone-care/2027-03-02/
LOCATION:The J\, 2935 Birch Hollow Dr.\, Ann Arbor\, MI\, 48108\, United States
CATEGORIES:KidZone,Youth
GEO:42.239759;-83.722389
X-APPLE-STRUCTURED-LOCATION;VALUE=URI;X-ADDRESS=The J 2935 Birch Hollow Dr. Ann Arbor MI 48108 United States;X-APPLE-RADIUS=500;X-TITLE=2935 Birch Hollow Dr.:geo:-83.722389,42.239759
END:VEVENT
BEGIN:VEVENT
DTSTART;TZID=America/Detroit:20270302T170000
DTEND;TZID=America/Detroit:20270302T180000
DTSTAMP:20260420T000451
CREATED:20251219T185738Z
LAST-MODIFIED:20260204T205752Z
UID:10007915-1804006800-1804010400@dev.jccannarbor.org
SUMMARY:Soccer Stars (without KidZone Care)
DESCRIPTION:Registration is now closed.
URL:https://dev.jccannarbor.org/event/soccer-stars-without-kidzone-care/2027-03-02/
LOCATION:The J\, 2935 Birch Hollow Dr.\, Ann Arbor\, MI\, 48108\, United States
CATEGORIES:Youth
GEO:42.239759;-83.722389
X-APPLE-STRUCTURED-LOCATION;VALUE=URI;X-ADDRESS=The J 2935 Birch Hollow Dr. Ann Arbor MI 48108 United States;X-APPLE-RADIUS=500;X-TITLE=2935 Birch Hollow Dr.:geo:-83.722389,42.239759
END:VEVENT
BEGIN:VEVENT
DTSTART;TZID=America/Detroit:20351207T090000
DTEND;TZID=America/Detroit:20450406T020000
DTSTAMP:20260420T000451
CREATED:20250326T162420Z
LAST-MODIFIED:20250908T172450Z
UID:10006177-2080630800-2375056800@dev.jccannarbor.org
SUMMARY:ZUMBA in the Gym!
DESCRIPTION:Join us for ZUMBA in the Gym!\n9-10 AM\nZumba is a high intensity\, low impact aerobic dance class.  Features include Latin & international rhythms including merengue\, salsa\, cumbia\, reggaeton\, flamenco\, and samba and Bhangra. Zumba is a dance workout that feels like a party. Everybody at any fitness and dance level is welcome. \nThe workout is designed by mixing low-intensity and high-intensity moves for an interval-style\, calorie-burning dance fitness party.  You will get a total body workout through a combination of easy to follow dance and fitness steps.  You get a total workout that combine cardio\, muscle conditioning\, balance and flexibility\, and boosted energy.  It’s exercise in disguise.  The class duration is for about 60 min\, and includes an intro\, dance\, and cool down part. \nRegistration\n\nDrop-in process – visit the Welcome Desk at the JCC to pay and join the class!\n\nCost\n$5 for J member or community member \nClass policies\n• Gym shoes are required\n• A water bottle is highly recommended \nNew clients should arrive 5 minutes early to fill out a waiver.\nCancellation policy\nIf cancelling less than two hours before class or you do not show\, full price of the class will be forfeited and will not be refunded.  Must call JCC if cancelling.  If class is cancelled due to instructor illness\, weather\, or building closure\, participant will not forfeit class\, and will have an opportunity to make up the class in the next week or a week when they are able to attend.
URL:https://dev.jccannarbor.org/event/zumba-2/2035-12-07/
LOCATION:The J\, 2935 Birch Hollow Dr.\, Ann Arbor\, MI\, 48108\, United States
CATEGORIES:Health & Wellness,Older Adults
GEO:42.239759;-83.722389
X-APPLE-STRUCTURED-LOCATION;VALUE=URI;X-ADDRESS=The J 2935 Birch Hollow Dr. Ann Arbor MI 48108 United States;X-APPLE-RADIUS=500;X-TITLE=2935 Birch Hollow Dr.:geo:-83.722389,42.239759
END:VEVENT
END:VCALENDAR