BEGIN:VCALENDAR
VERSION:2.0
PRODID:-//JCC Dev - ECPv6.15.18//NONSGML v1.0//EN
CALSCALE:GREGORIAN
METHOD:PUBLISH
X-ORIGINAL-URL:https://dev.jccannarbor.org
X-WR-CALDESC:Events for JCC Dev
REFRESH-INTERVAL;VALUE=DURATION:PT1H
X-Robots-Tag:noindex
X-PUBLISHED-TTL:PT1H
BEGIN:VTIMEZONE
TZID:America/Detroit
BEGIN:DAYLIGHT
TZOFFSETFROM:-0500
TZOFFSETTO:-0400
TZNAME:EDT
DTSTART:20240310T070000
END:DAYLIGHT
BEGIN:STANDARD
TZOFFSETFROM:-0400
TZOFFSETTO:-0500
TZNAME:EST
DTSTART:20241103T060000
END:STANDARD
BEGIN:DAYLIGHT
TZOFFSETFROM:-0500
TZOFFSETTO:-0400
TZNAME:EDT
DTSTART:20250309T070000
END:DAYLIGHT
BEGIN:STANDARD
TZOFFSETFROM:-0400
TZOFFSETTO:-0500
TZNAME:EST
DTSTART:20251102T060000
END:STANDARD
BEGIN:DAYLIGHT
TZOFFSETFROM:-0500
TZOFFSETTO:-0400
TZNAME:EDT
DTSTART:20260308T070000
END:DAYLIGHT
BEGIN:STANDARD
TZOFFSETFROM:-0400
TZOFFSETTO:-0500
TZNAME:EST
DTSTART:20261101T060000
END:STANDARD
END:VTIMEZONE
BEGIN:VEVENT
DTSTART;VALUE=DATE:20251020
DTEND;VALUE=DATE:20251121
DTSTAMP:20260422T222738
CREATED:20250908T134842Z
LAST-MODIFIED:20251117T233911Z
UID:10006817-1760918400-1763683199@dev.jccannarbor.org
SUMMARY:Fall 2025 Programming
DESCRIPTION:Register Now on Jlive!\nThe JCC is excited to introduce our Fall 2025 Programming!\nProgram Rates\nJCC Member Rate: $100 for 5 weeks\nCommunity Member Rate: $125 for 5 weeks\nGaming Club is free to all kids and teens! \nView Programs on Our Calendar\n  \n \n 
URL:https://dev.jccannarbor.org/event/fall-2025-programming/
LOCATION:The J\, 2935 Birch Hollow Dr.\, Ann Arbor\, MI\, 48108\, United States
CATEGORIES:Adults,Youth
ATTACH;FMTTYPE=image/jpeg:https://dev.jccannarbor.org/wp-content/uploads/2025/09/Fall-Programming-Website.jpg
GEO:42.239759;-83.722389
X-APPLE-STRUCTURED-LOCATION;VALUE=URI;X-ADDRESS=The J 2935 Birch Hollow Dr. Ann Arbor MI 48108 United States;X-APPLE-RADIUS=500;X-TITLE=2935 Birch Hollow Dr.:geo:-83.722389,42.239759
END:VEVENT
BEGIN:VEVENT
DTSTART;TZID=America/Detroit:20251112T120000
DTEND;TZID=America/Detroit:20251112T153000
DTSTAMP:20260422T222738
CREATED:20250929T163802Z
LAST-MODIFIED:20250929T163802Z
UID:10007594-1762948800-1762961400@dev.jccannarbor.org
SUMMARY:Wise Senior Center @ the JCC!
DESCRIPTION:Join Us For WISE at the J!\nJewish Family Services is proud to offer their weekly Wise Senior Center program as a part of WISE Aging Services. On Mondays (12:30-3 PM)\, Wednesdays and Fridays (12-3:30 PM) the program offers hand cooked\, freshly prepared kosher lunches and group activities! \nFor anyone 60 or over\, we ask for a suggested donation of $3. For anyone under 60\, there is a fee of $5.50. To learn more about the program or to register for lunches\, please contact Rebecca Nieubuurt\, WISE Coordinator.
URL:https://dev.jccannarbor.org/event/wise-senior-center-the-jcc/2025-11-12/
LOCATION:The J\, 2935 Birch Hollow Dr.\, Ann Arbor\, MI\, 48108\, United States
GEO:42.239759;-83.722389
X-APPLE-STRUCTURED-LOCATION;VALUE=URI;X-ADDRESS=The J 2935 Birch Hollow Dr. Ann Arbor MI 48108 United States;X-APPLE-RADIUS=500;X-TITLE=2935 Birch Hollow Dr.:geo:-83.722389,42.239759
END:VEVENT
BEGIN:VEVENT
DTSTART;TZID=America/Detroit:20251112T170000
DTEND;TZID=America/Detroit:20251112T180000
DTSTAMP:20260422T222738
CREATED:20250902T181034Z
LAST-MODIFIED:20250912T174025Z
UID:10006807-1762966800-1762970400@dev.jccannarbor.org
SUMMARY:Kids Theater
DESCRIPTION:Click Here to Register!
URL:https://dev.jccannarbor.org/event/kids-theater/2025-11-12/
LOCATION:The J\, 2935 Birch Hollow Dr.\, Ann Arbor\, MI\, 48108\, United States
CATEGORIES:Cultural Arts,Youth
GEO:42.239759;-83.722389
X-APPLE-STRUCTURED-LOCATION;VALUE=URI;X-ADDRESS=The J 2935 Birch Hollow Dr. Ann Arbor MI 48108 United States;X-APPLE-RADIUS=500;X-TITLE=2935 Birch Hollow Dr.:geo:-83.722389,42.239759
END:VEVENT
BEGIN:VEVENT
DTSTART;TZID=America/Detroit:20251112T190000
DTEND;TZID=America/Detroit:20251112T200000
DTSTAMP:20260422T222738
CREATED:20250908T150454Z
LAST-MODIFIED:20251202T190749Z
UID:10006831-1762974000-1762977600@dev.jccannarbor.org
SUMMARY:Fiber Arts Club
DESCRIPTION:Register Here
URL:https://dev.jccannarbor.org/event/fiber-arts-club-2/2025-11-12/
LOCATION:The J\, 2935 Birch Hollow Dr.\, Ann Arbor\, MI\, 48108\, United States
CATEGORIES:Adults
GEO:42.239759;-83.722389
X-APPLE-STRUCTURED-LOCATION;VALUE=URI;X-ADDRESS=The J 2935 Birch Hollow Dr. Ann Arbor MI 48108 United States;X-APPLE-RADIUS=500;X-TITLE=2935 Birch Hollow Dr.:geo:-83.722389,42.239759
END:VEVENT
BEGIN:VEVENT
DTSTART;TZID=America/Detroit:20251112T190000
DTEND;TZID=America/Detroit:20251112T203000
DTSTAMP:20260422T222738
CREATED:20250818T203749Z
LAST-MODIFIED:20251117T174406Z
UID:10006163-1762974000-1762979400@dev.jccannarbor.org
SUMMARY:Film Discussion Group with Russ Collins
DESCRIPTION:Learn More and Register Through JLive!
URL:https://dev.jccannarbor.org/event/film-discussion-group-with-russ-collins/2025-11-12/
LOCATION:The J\, 2935 Birch Hollow Dr.\, Ann Arbor\, MI\, 48108\, United States
CATEGORIES:Cultural Arts
ATTACH;FMTTYPE=image/jpeg:https://dev.jccannarbor.org/wp-content/uploads/2025/08/JCC-Film-Discussion-Website-2.jpg
GEO:42.239759;-83.722389
X-APPLE-STRUCTURED-LOCATION;VALUE=URI;X-ADDRESS=The J 2935 Birch Hollow Dr. Ann Arbor MI 48108 United States;X-APPLE-RADIUS=500;X-TITLE=2935 Birch Hollow Dr.:geo:-83.722389,42.239759
END:VEVENT
BEGIN:VEVENT
DTSTART;TZID=America/Detroit:20251113T103000
DTEND;TZID=America/Detroit:20251113T113000
DTSTAMP:20260422T222738
CREATED:20250918T190900Z
LAST-MODIFIED:20250918T190900Z
UID:10007568-1763029800-1763033400@dev.jccannarbor.org
SUMMARY:Tai Chi for Beginners
DESCRIPTION:Email Karla Groesbeck to join today!
URL:https://dev.jccannarbor.org/event/tai-chi-for-beginners/2025-11-13/
LOCATION:The J\, 2935 Birch Hollow Dr.\, Ann Arbor\, MI\, 48108\, United States
CATEGORIES:Adults,Health & Wellness,Youth
GEO:42.239759;-83.722389
X-APPLE-STRUCTURED-LOCATION;VALUE=URI;X-ADDRESS=The J 2935 Birch Hollow Dr. Ann Arbor MI 48108 United States;X-APPLE-RADIUS=500;X-TITLE=2935 Birch Hollow Dr.:geo:-83.722389,42.239759
END:VEVENT
BEGIN:VEVENT
DTSTART;TZID=America/Detroit:20251113T130000
DTEND;TZID=America/Detroit:20251113T140000
DTSTAMP:20260422T222738
CREATED:20250908T205655Z
LAST-MODIFIED:20251202T190839Z
UID:10007105-1763038800-1763042400@dev.jccannarbor.org
SUMMARY:Fiber Arts Club
DESCRIPTION:Register Here
URL:https://dev.jccannarbor.org/event/fiber-arts-club-3/2025-11-13/
LOCATION:The J\, 2935 Birch Hollow Dr.\, Ann Arbor\, MI\, 48108\, United States
CATEGORIES:Adults,Cultural Arts
GEO:42.239759;-83.722389
X-APPLE-STRUCTURED-LOCATION;VALUE=URI;X-ADDRESS=The J 2935 Birch Hollow Dr. Ann Arbor MI 48108 United States;X-APPLE-RADIUS=500;X-TITLE=2935 Birch Hollow Dr.:geo:-83.722389,42.239759
END:VEVENT
BEGIN:VEVENT
DTSTART;TZID=America/Detroit:20251113T183000
DTEND;TZID=America/Detroit:20251113T193000
DTSTAMP:20260422T222738
CREATED:20250820T202556Z
LAST-MODIFIED:20251114T011247Z
UID:10006186-1763058600-1763062200@dev.jccannarbor.org
SUMMARY:Fagin the Thief by Allison Epstein
DESCRIPTION:Register Here!
URL:https://dev.jccannarbor.org/event/fagin-the-thief-by-allison-epstein/
LOCATION:The J\, 2935 Birch Hollow Dr.\, Ann Arbor\, MI\, 48108\, United States
CATEGORIES:Book Festival
ATTACH;FMTTYPE=image/jpeg:https://dev.jccannarbor.org/wp-content/uploads/2025/08/Jewish-Book-Series-Website-5.jpg
GEO:42.239759;-83.722389
X-APPLE-STRUCTURED-LOCATION;VALUE=URI;X-ADDRESS=The J 2935 Birch Hollow Dr. Ann Arbor MI 48108 United States;X-APPLE-RADIUS=500;X-TITLE=2935 Birch Hollow Dr.:geo:-83.722389,42.239759
END:VEVENT
BEGIN:VEVENT
DTSTART;TZID=America/Detroit:20251113T183000
DTEND;TZID=America/Detroit:20251113T193000
DTSTAMP:20260422T222738
CREATED:20251022T215807Z
LAST-MODIFIED:20251205T203745Z
UID:10007681-1763058600-1763062200@dev.jccannarbor.org
SUMMARY:2025-2026 Jewish Book Series
DESCRIPTION:Check Out the Book Series Schedule!
URL:https://dev.jccannarbor.org/event/2025-2026-jewish-book-series/2025-11-13/
LOCATION:The J\, 2935 Birch Hollow Dr.\, Ann Arbor\, MI\, 48108\, United States
CATEGORIES:Cultural Arts
ATTACH;FMTTYPE=image/jpeg:https://dev.jccannarbor.org/wp-content/uploads/2025/10/Jewish-Book-Series-Website-2.jpg
GEO:42.239759;-83.722389
X-APPLE-STRUCTURED-LOCATION;VALUE=URI;X-ADDRESS=The J 2935 Birch Hollow Dr. Ann Arbor MI 48108 United States;X-APPLE-RADIUS=500;X-TITLE=2935 Birch Hollow Dr.:geo:-83.722389,42.239759
END:VEVENT
BEGIN:VEVENT
DTSTART;VALUE=DATE:20251114
DTEND;VALUE=DATE:20251224
DTSTAMP:20260422T222738
CREATED:20251120T000653Z
LAST-MODIFIED:20251215T194802Z
UID:10007726-1763078400-1766534399@dev.jccannarbor.org
SUMMARY:8K's of Hanukkah Virtual Race
DESCRIPTION:Sign Up for the Race\nThere are tons of Christmas races out there — but not many that celebrate Hanukkah.\nSo Epic Races created one just for you! ✨ \nWhether you run\, walk\, or do a little of both\, the 8Ks of Hanukkah Virtual Race lets you celebrate the Festival of Lights with fitness and fun — your way\, on your schedule. \nA virtual race means you complete your run or walk anywhere\, anytime … around your neighborhood\, on a treadmill\, or at your favorite park. There’s no official start line or finish line … just your own pace\, your own place\, and your own celebration of light and movement! \nWhen you sign up\, you’ll receive a festive race shirt and medal mailed right to your door. All packages ship on Monday\, December 8\, 2025. \n100% of the proceeds will support Team Ann Arbor-Nahalal for the 2026 JCC Maccabi Games in Toronto!
URL:https://dev.jccannarbor.org/event/8ks-of-hanukkah-virtual-race/
LOCATION:MI
CATEGORIES:Adults,Community,Family,Health & Wellness
ATTACH;FMTTYPE=image/jpeg:https://dev.jccannarbor.org/wp-content/uploads/2025/11/Jewish-Book-Series-Website-12.jpg
ORGANIZER;CN="Epic Races":MAILTO:info@epicraces.com
END:VEVENT
BEGIN:VEVENT
DTSTART;TZID=America/Detroit:20251114T120000
DTEND;TZID=America/Detroit:20251114T153000
DTSTAMP:20260422T222738
CREATED:20250929T163802Z
LAST-MODIFIED:20250929T163802Z
UID:10007595-1763121600-1763134200@dev.jccannarbor.org
SUMMARY:Wise Senior Center @ the JCC!
DESCRIPTION:Join Us For WISE at the J!\nJewish Family Services is proud to offer their weekly Wise Senior Center program as a part of WISE Aging Services. On Mondays (12:30-3 PM)\, Wednesdays and Fridays (12-3:30 PM) the program offers hand cooked\, freshly prepared kosher lunches and group activities! \nFor anyone 60 or over\, we ask for a suggested donation of $3. For anyone under 60\, there is a fee of $5.50. To learn more about the program or to register for lunches\, please contact Rebecca Nieubuurt\, WISE Coordinator.
URL:https://dev.jccannarbor.org/event/wise-senior-center-the-jcc/2025-11-14/
LOCATION:The J\, 2935 Birch Hollow Dr.\, Ann Arbor\, MI\, 48108\, United States
GEO:42.239759;-83.722389
X-APPLE-STRUCTURED-LOCATION;VALUE=URI;X-ADDRESS=The J 2935 Birch Hollow Dr. Ann Arbor MI 48108 United States;X-APPLE-RADIUS=500;X-TITLE=2935 Birch Hollow Dr.:geo:-83.722389,42.239759
END:VEVENT
BEGIN:VEVENT
DTSTART;TZID=America/Detroit:20251117T123000
DTEND;TZID=America/Detroit:20251117T150000
DTSTAMP:20260422T222738
CREATED:20250929T163802Z
LAST-MODIFIED:20250929T163802Z
UID:10007596-1763382600-1763391600@dev.jccannarbor.org
SUMMARY:Wise Senior Center @ the JCC!
DESCRIPTION:Join Us For WISE at the J!\nJewish Family Services is proud to offer their weekly Wise Senior Center program as a part of WISE Aging Services. On Mondays (12:30-3 PM)\, Wednesdays and Fridays (12-3:30 PM) the program offers hand cooked\, freshly prepared kosher lunches and group activities! \nFor anyone 60 or over\, we ask for a suggested donation of $3. For anyone under 60\, there is a fee of $5.50. To learn more about the program or to register for lunches\, please contact Rebecca Nieubuurt\, WISE Coordinator.
URL:https://dev.jccannarbor.org/event/wise-senior-center-the-jcc/2025-11-17/
LOCATION:The J\, 2935 Birch Hollow Dr.\, Ann Arbor\, MI\, 48108\, United States
GEO:42.239759;-83.722389
X-APPLE-STRUCTURED-LOCATION;VALUE=URI;X-ADDRESS=The J 2935 Birch Hollow Dr. Ann Arbor MI 48108 United States;X-APPLE-RADIUS=500;X-TITLE=2935 Birch Hollow Dr.:geo:-83.722389,42.239759
END:VEVENT
BEGIN:VEVENT
DTSTART;TZID=America/Detroit:20251117T180000
DTEND;TZID=America/Detroit:20251117T190000
DTSTAMP:20260422T222738
CREATED:20251021T170655Z
LAST-MODIFIED:20251028T200301Z
UID:10007679-1763402400-1763406000@dev.jccannarbor.org
SUMMARY:Dance Gymnastics
DESCRIPTION:Registration for this program is now closed.
URL:https://dev.jccannarbor.org/event/dance-gymnastic/2025-11-17/
LOCATION:The J\, 2935 Birch Hollow Dr.\, Ann Arbor\, MI\, 48108\, United States
CATEGORIES:Health & Wellness,Youth
GEO:42.239759;-83.722389
X-APPLE-STRUCTURED-LOCATION;VALUE=URI;X-ADDRESS=The J 2935 Birch Hollow Dr. Ann Arbor MI 48108 United States;X-APPLE-RADIUS=500;X-TITLE=2935 Birch Hollow Dr.:geo:-83.722389,42.239759
END:VEVENT
BEGIN:VEVENT
DTSTART;TZID=America/Detroit:20251118T180000
DTEND;TZID=America/Detroit:20251118T200000
DTSTAMP:20260422T222738
CREATED:20251118T231115Z
LAST-MODIFIED:20251118T231116Z
UID:10007702-1763488800-1763496000@dev.jccannarbor.org
SUMMARY:Adult Dungeons & Dragons
DESCRIPTION:Register Here
URL:https://dev.jccannarbor.org/event/adult-dungeons-dragons-2/2025-11-18/
LOCATION:The J\, 2935 Birch Hollow Dr.\, Ann Arbor\, MI\, 48108\, United States
CATEGORIES:Adults
GEO:42.239759;-83.722389
X-APPLE-STRUCTURED-LOCATION;VALUE=URI;X-ADDRESS=The J 2935 Birch Hollow Dr. Ann Arbor MI 48108 United States;X-APPLE-RADIUS=500;X-TITLE=2935 Birch Hollow Dr.:geo:-83.722389,42.239759
END:VEVENT
BEGIN:VEVENT
DTSTART;TZID=America/Detroit:20251119T120000
DTEND;TZID=America/Detroit:20251119T153000
DTSTAMP:20260422T222738
CREATED:20250929T163802Z
LAST-MODIFIED:20250929T163802Z
UID:10007597-1763553600-1763566200@dev.jccannarbor.org
SUMMARY:Wise Senior Center @ the JCC!
DESCRIPTION:Join Us For WISE at the J!\nJewish Family Services is proud to offer their weekly Wise Senior Center program as a part of WISE Aging Services. On Mondays (12:30-3 PM)\, Wednesdays and Fridays (12-3:30 PM) the program offers hand cooked\, freshly prepared kosher lunches and group activities! \nFor anyone 60 or over\, we ask for a suggested donation of $3. For anyone under 60\, there is a fee of $5.50. To learn more about the program or to register for lunches\, please contact Rebecca Nieubuurt\, WISE Coordinator.
URL:https://dev.jccannarbor.org/event/wise-senior-center-the-jcc/2025-11-19/
LOCATION:The J\, 2935 Birch Hollow Dr.\, Ann Arbor\, MI\, 48108\, United States
GEO:42.239759;-83.722389
X-APPLE-STRUCTURED-LOCATION;VALUE=URI;X-ADDRESS=The J 2935 Birch Hollow Dr. Ann Arbor MI 48108 United States;X-APPLE-RADIUS=500;X-TITLE=2935 Birch Hollow Dr.:geo:-83.722389,42.239759
END:VEVENT
BEGIN:VEVENT
DTSTART;TZID=America/Detroit:20251119T170000
DTEND;TZID=America/Detroit:20251119T180000
DTSTAMP:20260422T222738
CREATED:20250902T181034Z
LAST-MODIFIED:20250912T174025Z
UID:10006808-1763571600-1763575200@dev.jccannarbor.org
SUMMARY:Kids Theater
DESCRIPTION:Click Here to Register!
URL:https://dev.jccannarbor.org/event/kids-theater/2025-11-19/
LOCATION:The J\, 2935 Birch Hollow Dr.\, Ann Arbor\, MI\, 48108\, United States
CATEGORIES:Cultural Arts,Youth
GEO:42.239759;-83.722389
X-APPLE-STRUCTURED-LOCATION;VALUE=URI;X-ADDRESS=The J 2935 Birch Hollow Dr. Ann Arbor MI 48108 United States;X-APPLE-RADIUS=500;X-TITLE=2935 Birch Hollow Dr.:geo:-83.722389,42.239759
END:VEVENT
BEGIN:VEVENT
DTSTART;TZID=America/Detroit:20251119T190000
DTEND;TZID=America/Detroit:20251119T200000
DTSTAMP:20260422T222738
CREATED:20250908T150454Z
LAST-MODIFIED:20251202T190749Z
UID:10006832-1763578800-1763582400@dev.jccannarbor.org
SUMMARY:Fiber Arts Club
DESCRIPTION:Register Here
URL:https://dev.jccannarbor.org/event/fiber-arts-club-2/2025-11-19/
LOCATION:The J\, 2935 Birch Hollow Dr.\, Ann Arbor\, MI\, 48108\, United States
CATEGORIES:Adults
GEO:42.239759;-83.722389
X-APPLE-STRUCTURED-LOCATION;VALUE=URI;X-ADDRESS=The J 2935 Birch Hollow Dr. Ann Arbor MI 48108 United States;X-APPLE-RADIUS=500;X-TITLE=2935 Birch Hollow Dr.:geo:-83.722389,42.239759
END:VEVENT
BEGIN:VEVENT
DTSTART;TZID=America/Detroit:20251120T103000
DTEND;TZID=America/Detroit:20251120T113000
DTSTAMP:20260422T222738
CREATED:20250918T190900Z
LAST-MODIFIED:20250918T190900Z
UID:10007569-1763634600-1763638200@dev.jccannarbor.org
SUMMARY:Tai Chi for Beginners
DESCRIPTION:Email Karla Groesbeck to join today!
URL:https://dev.jccannarbor.org/event/tai-chi-for-beginners/2025-11-20/
LOCATION:The J\, 2935 Birch Hollow Dr.\, Ann Arbor\, MI\, 48108\, United States
CATEGORIES:Adults,Health & Wellness,Youth
GEO:42.239759;-83.722389
X-APPLE-STRUCTURED-LOCATION;VALUE=URI;X-ADDRESS=The J 2935 Birch Hollow Dr. Ann Arbor MI 48108 United States;X-APPLE-RADIUS=500;X-TITLE=2935 Birch Hollow Dr.:geo:-83.722389,42.239759
END:VEVENT
BEGIN:VEVENT
DTSTART;TZID=America/Detroit:20251120T130000
DTEND;TZID=America/Detroit:20251120T140000
DTSTAMP:20260422T222738
CREATED:20250908T205655Z
LAST-MODIFIED:20251202T190839Z
UID:10007106-1763643600-1763647200@dev.jccannarbor.org
SUMMARY:Fiber Arts Club
DESCRIPTION:Register Here
URL:https://dev.jccannarbor.org/event/fiber-arts-club-3/2025-11-20/
LOCATION:The J\, 2935 Birch Hollow Dr.\, Ann Arbor\, MI\, 48108\, United States
CATEGORIES:Adults,Cultural Arts
GEO:42.239759;-83.722389
X-APPLE-STRUCTURED-LOCATION;VALUE=URI;X-ADDRESS=The J 2935 Birch Hollow Dr. Ann Arbor MI 48108 United States;X-APPLE-RADIUS=500;X-TITLE=2935 Birch Hollow Dr.:geo:-83.722389,42.239759
END:VEVENT
BEGIN:VEVENT
DTSTART;TZID=America/Detroit:20251120T173000
DTEND;TZID=America/Detroit:20251120T193000
DTSTAMP:20260422T222738
CREATED:20250820T202723Z
LAST-MODIFIED:20251121T161030Z
UID:10006187-1763659800-1763667000@dev.jccannarbor.org
SUMMARY:Local Authors & Artists
DESCRIPTION:Register Here\n  \nLocal Authors \nClare Kinberg – By the Waters of Paradise \nHenry “Hank” Greenspan – Remnants and What Remains \nJack Zaientz – Jewish Monster and Magic Trading Cards\, Wayward Children Podcast\, and More! \nBarbara Stark-Nemon – Isabela’s Way \nCary Gitter – Cammy Sitting Shiva \n  \nLocal Artists \nMarie Singer \nAndy Schiff \nYael Sela
URL:https://dev.jccannarbor.org/event/local-authors-and-artists/
LOCATION:The J\, 2935 Birch Hollow Dr.\, Ann Arbor\, MI\, 48108\, United States
CATEGORIES:Cultural Arts
ATTACH;FMTTYPE=image/jpeg:https://dev.jccannarbor.org/wp-content/uploads/2025/08/Jewish-Book-Series-Website-7.jpg
GEO:42.239759;-83.722389
X-APPLE-STRUCTURED-LOCATION;VALUE=URI;X-ADDRESS=The J 2935 Birch Hollow Dr. Ann Arbor MI 48108 United States;X-APPLE-RADIUS=500;X-TITLE=2935 Birch Hollow Dr.:geo:-83.722389,42.239759
END:VEVENT
BEGIN:VEVENT
DTSTART;TZID=America/Detroit:20251120T173000
DTEND;TZID=America/Detroit:20251120T193000
DTSTAMP:20260422T222739
CREATED:20251022T215807Z
LAST-MODIFIED:20251205T203745Z
UID:10007682-1763659800-1763667000@dev.jccannarbor.org
SUMMARY:2025-2026 Jewish Book Series
DESCRIPTION:Check Out the Book Series Schedule!
URL:https://dev.jccannarbor.org/event/2025-2026-jewish-book-series/2025-11-20/
LOCATION:The J\, 2935 Birch Hollow Dr.\, Ann Arbor\, MI\, 48108\, United States
CATEGORIES:Cultural Arts
ATTACH;FMTTYPE=image/jpeg:https://dev.jccannarbor.org/wp-content/uploads/2025/10/Jewish-Book-Series-Website-2.jpg
GEO:42.239759;-83.722389
X-APPLE-STRUCTURED-LOCATION;VALUE=URI;X-ADDRESS=The J 2935 Birch Hollow Dr. Ann Arbor MI 48108 United States;X-APPLE-RADIUS=500;X-TITLE=2935 Birch Hollow Dr.:geo:-83.722389,42.239759
END:VEVENT
BEGIN:VEVENT
DTSTART;TZID=America/Detroit:20251121T093000
DTEND;TZID=America/Detroit:20251121T103000
DTSTAMP:20260422T222739
CREATED:20251024T172150Z
LAST-MODIFIED:20260320T141538Z
UID:10007950-1763717400-1763721000@dev.jccannarbor.org
SUMMARY:Community Shabbat Schmooze
DESCRIPTION:Register Here
URL:https://dev.jccannarbor.org/event/community-shabbat-schmooze/2025-11-21/
LOCATION:The J\, 2935 Birch Hollow Dr.\, Ann Arbor\, MI\, 48108\, United States
ATTACH;FMTTYPE=image/jpeg:https://dev.jccannarbor.org/wp-content/uploads/2025/10/Jewish-Book-Series-Website-19.jpg
GEO:42.239759;-83.722389
X-APPLE-STRUCTURED-LOCATION;VALUE=URI;X-ADDRESS=The J 2935 Birch Hollow Dr. Ann Arbor MI 48108 United States;X-APPLE-RADIUS=500;X-TITLE=2935 Birch Hollow Dr.:geo:-83.722389,42.239759
END:VEVENT
BEGIN:VEVENT
DTSTART;TZID=America/Detroit:20251121T120000
DTEND;TZID=America/Detroit:20251121T153000
DTSTAMP:20260422T222739
CREATED:20250929T163802Z
LAST-MODIFIED:20250929T163802Z
UID:10007598-1763726400-1763739000@dev.jccannarbor.org
SUMMARY:Wise Senior Center @ the JCC!
DESCRIPTION:Join Us For WISE at the J!\nJewish Family Services is proud to offer their weekly Wise Senior Center program as a part of WISE Aging Services. On Mondays (12:30-3 PM)\, Wednesdays and Fridays (12-3:30 PM) the program offers hand cooked\, freshly prepared kosher lunches and group activities! \nFor anyone 60 or over\, we ask for a suggested donation of $3. For anyone under 60\, there is a fee of $5.50. To learn more about the program or to register for lunches\, please contact Rebecca Nieubuurt\, WISE Coordinator.
URL:https://dev.jccannarbor.org/event/wise-senior-center-the-jcc/2025-11-21/
LOCATION:The J\, 2935 Birch Hollow Dr.\, Ann Arbor\, MI\, 48108\, United States
GEO:42.239759;-83.722389
X-APPLE-STRUCTURED-LOCATION;VALUE=URI;X-ADDRESS=The J 2935 Birch Hollow Dr. Ann Arbor MI 48108 United States;X-APPLE-RADIUS=500;X-TITLE=2935 Birch Hollow Dr.:geo:-83.722389,42.239759
END:VEVENT
BEGIN:VEVENT
DTSTART;TZID=America/Detroit:20251124T123000
DTEND;TZID=America/Detroit:20251124T150000
DTSTAMP:20260422T222739
CREATED:20250929T163802Z
LAST-MODIFIED:20250929T163802Z
UID:10007599-1763987400-1763996400@dev.jccannarbor.org
SUMMARY:Wise Senior Center @ the JCC!
DESCRIPTION:Join Us For WISE at the J!\nJewish Family Services is proud to offer their weekly Wise Senior Center program as a part of WISE Aging Services. On Mondays (12:30-3 PM)\, Wednesdays and Fridays (12-3:30 PM) the program offers hand cooked\, freshly prepared kosher lunches and group activities! \nFor anyone 60 or over\, we ask for a suggested donation of $3. For anyone under 60\, there is a fee of $5.50. To learn more about the program or to register for lunches\, please contact Rebecca Nieubuurt\, WISE Coordinator.
URL:https://dev.jccannarbor.org/event/wise-senior-center-the-jcc/2025-11-24/
LOCATION:The J\, 2935 Birch Hollow Dr.\, Ann Arbor\, MI\, 48108\, United States
GEO:42.239759;-83.722389
X-APPLE-STRUCTURED-LOCATION;VALUE=URI;X-ADDRESS=The J 2935 Birch Hollow Dr. Ann Arbor MI 48108 United States;X-APPLE-RADIUS=500;X-TITLE=2935 Birch Hollow Dr.:geo:-83.722389,42.239759
END:VEVENT
BEGIN:VEVENT
DTSTART;TZID=America/Detroit:20251124T180000
DTEND;TZID=America/Detroit:20251124T190000
DTSTAMP:20260422T222739
CREATED:20251021T170655Z
LAST-MODIFIED:20251028T200301Z
UID:10007680-1764007200-1764010800@dev.jccannarbor.org
SUMMARY:Dance Gymnastics
DESCRIPTION:Registration for this program is now closed.
URL:https://dev.jccannarbor.org/event/dance-gymnastic/2025-11-24/
LOCATION:The J\, 2935 Birch Hollow Dr.\, Ann Arbor\, MI\, 48108\, United States
CATEGORIES:Health & Wellness,Youth
GEO:42.239759;-83.722389
X-APPLE-STRUCTURED-LOCATION;VALUE=URI;X-ADDRESS=The J 2935 Birch Hollow Dr. Ann Arbor MI 48108 United States;X-APPLE-RADIUS=500;X-TITLE=2935 Birch Hollow Dr.:geo:-83.722389,42.239759
END:VEVENT
BEGIN:VEVENT
DTSTART;VALUE=DATE:20251127
DTEND;VALUE=DATE:20251128
DTSTAMP:20260422T222739
CREATED:20250821T183920Z
LAST-MODIFIED:20250821T183920Z
UID:10006229-1764201600-1764287999@dev.jccannarbor.org
SUMMARY:Thanksgiving
DESCRIPTION:
URL:https://dev.jccannarbor.org/event/thanksgiving/
LOCATION:The J\, 2935 Birch Hollow Dr.\, Ann Arbor\, MI\, 48108\, United States
GEO:42.239759;-83.722389
X-APPLE-STRUCTURED-LOCATION;VALUE=URI;X-ADDRESS=The J 2935 Birch Hollow Dr. Ann Arbor MI 48108 United States;X-APPLE-RADIUS=500;X-TITLE=2935 Birch Hollow Dr.:geo:-83.722389,42.239759
END:VEVENT
BEGIN:VEVENT
DTSTART;TZID=America/Detroit:20251201T123000
DTEND;TZID=America/Detroit:20251201T150000
DTSTAMP:20260422T222739
CREATED:20251201T230556Z
LAST-MODIFIED:20260114T234153Z
UID:10007738-1764592200-1764601200@dev.jccannarbor.org
SUMMARY:Wise Senior Center @ the JCC!
DESCRIPTION:Join Us For WISE at the J!\nJewish Family Services is proud to offer their weekly Wise Senior Center program as a part of WISE Aging Services. On Mondays (12:30-3 PM)\, Wednesdays and Fridays (12-3:30 PM) the program offers hand cooked\, freshly prepared kosher lunches and group activities! \nFor anyone 60 or over\, we ask for a suggested donation of $3. For anyone under 60\, there is a fee of $5.50. To learn more about the program or to register for lunches\, please contact Rebecca Nieubuurt\, WISE Coordinator.
URL:https://dev.jccannarbor.org/event/wise-senior-center-the-jcc-2/2025-12-01/
LOCATION:The J\, 2935 Birch Hollow Dr.\, Ann Arbor\, MI\, 48108\, United States
CATEGORIES:Health & Wellness,Older Adults
ATTACH;FMTTYPE=image/jpeg:https://dev.jccannarbor.org/wp-content/uploads/2024/12/WISE-@-the-J-Website-2-1.jpg
GEO:42.239759;-83.722389
X-APPLE-STRUCTURED-LOCATION;VALUE=URI;X-ADDRESS=The J 2935 Birch Hollow Dr. Ann Arbor MI 48108 United States;X-APPLE-RADIUS=500;X-TITLE=2935 Birch Hollow Dr.:geo:-83.722389,42.239759
END:VEVENT
BEGIN:VEVENT
DTSTART;TZID=America/Detroit:20251201T183000
DTEND;TZID=America/Detroit:20251201T193000
DTSTAMP:20260422T222739
CREATED:20250820T202913Z
LAST-MODIFIED:20251202T174236Z
UID:10006188-1764613800-1764617400@dev.jccannarbor.org
SUMMARY:In Conversation with Corey Rosen and Jeff Pickell
DESCRIPTION:Register Here
URL:https://dev.jccannarbor.org/event/in-conversation-with-corey-rosen-and-jeff-pickell/
LOCATION:The J\, 2935 Birch Hollow Dr.\, Ann Arbor\, MI\, 48108\, United States
CATEGORIES:Book Festival
ATTACH;FMTTYPE=image/jpeg:https://dev.jccannarbor.org/wp-content/uploads/2025/08/Jewish-Book-Series-Website-8.jpg
GEO:42.239759;-83.722389
X-APPLE-STRUCTURED-LOCATION;VALUE=URI;X-ADDRESS=The J 2935 Birch Hollow Dr. Ann Arbor MI 48108 United States;X-APPLE-RADIUS=500;X-TITLE=2935 Birch Hollow Dr.:geo:-83.722389,42.239759
END:VEVENT
BEGIN:VEVENT
DTSTART;TZID=America/Detroit:20251201T183000
DTEND;TZID=America/Detroit:20251201T193000
DTSTAMP:20260422T222739
CREATED:20251022T215807Z
LAST-MODIFIED:20251205T203745Z
UID:10007683-1764613800-1764617400@dev.jccannarbor.org
SUMMARY:2025-2026 Jewish Book Series
DESCRIPTION:Check Out the Book Series Schedule!
URL:https://dev.jccannarbor.org/event/2025-2026-jewish-book-series/2025-12-01/
LOCATION:The J\, 2935 Birch Hollow Dr.\, Ann Arbor\, MI\, 48108\, United States
CATEGORIES:Cultural Arts
ATTACH;FMTTYPE=image/jpeg:https://dev.jccannarbor.org/wp-content/uploads/2025/10/Jewish-Book-Series-Website-2.jpg
GEO:42.239759;-83.722389
X-APPLE-STRUCTURED-LOCATION;VALUE=URI;X-ADDRESS=The J 2935 Birch Hollow Dr. Ann Arbor MI 48108 United States;X-APPLE-RADIUS=500;X-TITLE=2935 Birch Hollow Dr.:geo:-83.722389,42.239759
END:VEVENT
BEGIN:VEVENT
DTSTART;TZID=America/Detroit:20251202T180000
DTEND;TZID=America/Detroit:20251202T200000
DTSTAMP:20260422T222739
CREATED:20251118T231115Z
LAST-MODIFIED:20251118T231116Z
UID:10007718-1764698400-1764705600@dev.jccannarbor.org
SUMMARY:Adult Dungeons & Dragons
DESCRIPTION:Register Here
URL:https://dev.jccannarbor.org/event/adult-dungeons-dragons-2/2025-12-02/
LOCATION:The J\, 2935 Birch Hollow Dr.\, Ann Arbor\, MI\, 48108\, United States
CATEGORIES:Adults
GEO:42.239759;-83.722389
X-APPLE-STRUCTURED-LOCATION;VALUE=URI;X-ADDRESS=The J 2935 Birch Hollow Dr. Ann Arbor MI 48108 United States;X-APPLE-RADIUS=500;X-TITLE=2935 Birch Hollow Dr.:geo:-83.722389,42.239759
END:VEVENT
END:VCALENDAR